BEGIN:VCALENDAR
VERSION:2.0
PRODID:-//wp-events-plugin.com//7.2.3.1//EN
TZID:Europe/Zurich
X-WR-TIMEZONE:Europe/Zurich
BEGIN:VEVENT
UID:158@leoniecachelin.com
DTSTART;TZID=Europe/Zurich:20241025T193000
DTEND;TZID=Europe/Zurich:20241025T193000
DTSTAMP:20240901T155006Z
URL:https://leoniecachelin.com/agenda/birdsongs-ensemble-diaphane-feat-n-g
 urtner-j-jeanrenaud-l-matthey/
SUMMARY:Birdsongs - Ensemble Diaphane feat N. Gurtner\, J. Jeanrenaud\, L. 
 Matthey
DESCRIPTION:BIRDSONGS\n\n\nEn mai 2023 les Rencontres arrangées ont prése
 nté une nouvelle création dans le cadre du Jardin Botanique de Neuchâte
 l. Jérôme Jeanrenaud et Nicolas Gurtner ont invité à cette occasion le
 s chanteuses de l’Ensemble Diaphane établi à Lausanne ainsi que le per
 cussionniste neuchâtelois Lucien Matthey. Le concert a pris une forme iti
 nérante et a déambulé dans les différents espaces du Jardin Botanique.
 \n\nLe duo de compositeurs s’est laissé influencer par des compositeurs
 ·trices d’avant-garde tels que Bryce Dessner ou Caroline Shaw\, explora
 nt les possibilités vocales offertes par différentes cultures\, tout en 
 gardant l’essence jazz qui leur est propre. Une partie des textes est ti
 rée d’un recueil d’Haikus de Jack Kerouac. L’autre partie des texte
 s à été écrite par les compositeurs\, utilisant des phrases courtes et
  évocatrices qui se mettent au service de la musique. Ils proposent d’e
 xplorer d’une façon large notre rapport aux oiseaux et à leurs chants.
 \n\nEn 2024\, Birdsongs s’offre une tournée des jardins botaniques de S
 uisse (été) puis une série de concerts en salles (automne/hiver) et en 
 profite pour remanier et étoffer son répertoire avec de nouvelles compos
 itions originales.\n\nLes vidéos de la création sont à découvrir ici\n
 \n\n\nMUSICIENS\nClaudine Charnay Mezzo-Soprano\nJennifer Pellagaud Sopran
 o\nMarion Pagin Soprano\nZoéline Simone Mezzo-soprano\nLéonie Cachelin M
 ezzo-Soprano\nLucien Matthey Percussions\nJérôme Jeanrenaud Claviers\, C
 omposition\nNicolas Gurtner Saxophones\, Composition\n\n\n&nbsp\;
ATTACH;FMTTYPE=image/jpeg:https://leoniecachelin.com/wp-content/uploads/20
 24/06/Capture-decran-2024-06-06-a-13.07.53.png
CATEGORIES:Chœur et ensemble
LOCATION:Le Balkkon\, Rue du Neuburg 20\, Neuchâtel\, Suisse
X-APPLE-STRUCTURED-LOCATION;VALUE=URI;X-ADDRESS=Rue du Neuburg 20\, Neuchâ
 tel\, Suisse;X-APPLE-RADIUS=100;X-TITLE=Le Balkkon:geo:0,0
END:VEVENT
BEGIN:VTIMEZONE
TZID:Europe/Zurich
X-LIC-LOCATION:Europe/Zurich
BEGIN:DAYLIGHT
DTSTART:20240331T030000
TZOFFSETFROM:+0100
TZOFFSETTO:+0200
TZNAME:CEST
END:DAYLIGHT
END:VTIMEZONE
END:VCALENDAR