BEGIN:VCALENDAR
VERSION:2.0
PRODID:-//wp-events-plugin.com//7.2.3.1//EN
TZID:Europe/Zurich
X-WR-TIMEZONE:Europe/Zurich
BEGIN:VEVENT
UID:188@leoniecachelin.com
DTSTART;TZID=Europe/Zurich:20250906T133000
DTEND;TZID=Europe/Zurich:20250906T144500
DTSTAMP:20250807T125035Z
URL:https://leoniecachelin.com/agenda/calme-et-volupte-evl-schubertiades/
SUMMARY:Calme et volupté - EVL - Schubertiades
DESCRIPTION:\n\n\nAvec Calme et voluptés\, l’EVL invite à un moment de 
 sérénité partagée\, où la musique devient un refuge\, un espace de r
 ésonance intérieure et collective. Au coeur de ce programme\, des oeuvre
 s de Debussy\, Fauré\, Duparc\, Boulanger et Saint-Saëns forment un pays
 age sonore d’une grande unité de ton : crépusculaire\, intimiste\, par
 fois traversé de mystère ou d’élans poétiques\, mais toujours guidé
  par une quête de lumière.\nLes thèmes du rêve\, du souvenir\, du sile
 nce et de la nature y dessinent les contours d’un monde\nplus lent\, plu
 s profond\, où l’émotion affleure sans jamais s’imposer.\n\nCertaine
 s de ces pièces\, comme La vie antérieure\, L’invitation au voyage\, B
 eau soir\, Romance ou Le papillon et la fleur\,  sont à l’origine des 
 mélodies pour voix seule et piano. Grâce aux arrangements sensibles et i
 nspirés de Denis Rouger\, elles\nprennent ici une nouvelle dimension\, po
 rtées par la richesse des timbres du chœur.\n\n\n\nPROGRAMME\nOeuvres de
  C. Debussy\, F. Poulenc\, L. Boulanger\,\nH. Duparc\, G. Fauré\, C. Sain
 t-Saëns\n\n\n\n\n\n\nLudmila Schwartzwalder MEZZO-SOPRANO\nFlorent Lattug
 a PIANO\nPierre-Fabien Roubaty DIRECTION\n\n\n
ATTACH;FMTTYPE=image/jpeg:https://leoniecachelin.com/wp-content/uploads/20
 22/11/FD466ACA-6658-4F8C-9F7A-3201AB29123D.jpeg
CATEGORIES:Chœur et ensemble
LOCATION:Eglise Ste-Théodule\, Sion\, Sion\, Suisse
X-APPLE-STRUCTURED-LOCATION;VALUE=URI;X-ADDRESS=Sion\, Sion\, Suisse;X-APPL
 E-RADIUS=100;X-TITLE=Eglise Ste-Théodule:geo:0,0
END:VEVENT
BEGIN:VTIMEZONE
TZID:Europe/Zurich
X-LIC-LOCATION:Europe/Zurich
BEGIN:DAYLIGHT
DTSTART:20250330T030000
TZOFFSETFROM:+0100
TZOFFSETTO:+0200
TZNAME:CEST
END:DAYLIGHT
END:VTIMEZONE
END:VCALENDAR