BEGIN:VCALENDAR
VERSION:2.0
PRODID:-//wp-events-plugin.com//7.2.3.1//EN
TZID:Europe/Zurich
X-WR-TIMEZONE:Europe/Zurich
BEGIN:VEVENT
UID:155@leoniecachelin.com
DTSTART;TZID=Europe/Zurich:20241030T200000
DTEND;TZID=Europe/Zurich:20241030T200000
DTSTAMP:20240901T154513Z
URL:https://leoniecachelin.com/agenda/cantate-domino-ensemble-bernini-mezz
 o-solo-lieu-a-preciser/
SUMMARY:Cantate Domino - Ensemble Bernini - Mezzo solo
DESCRIPTION:Cantate Domino\nOeuvres de Stradella\, Scarlatti et Vivaldi\nIn
 es Flores Brasil\, soprano\nLéonie Cachelin\, mezzo-soprano\nElena Califa
 no\, violon baroque\nVanessa Monteventi\, violon baroque\nClément Dami\, 
 violoncelle baroque\nArthur Saunier\, orgue\n\n
ATTACH;FMTTYPE=image/jpeg:https://leoniecachelin.com/wp-content/uploads/20
 24/01/DSC00443-scaled.jpg
CATEGORIES:Mezzo solo
LOCATION:Paroisse Sainte-Thérese\, Eaux-Vives\, Genève\, Suisse
X-APPLE-STRUCTURED-LOCATION;VALUE=URI;X-ADDRESS=Eaux-Vives\, Genève\, Suis
 se;X-APPLE-RADIUS=100;X-TITLE=Paroisse Sainte-Thérese:geo:0,0
END:VEVENT
BEGIN:VTIMEZONE
TZID:Europe/Zurich
X-LIC-LOCATION:Europe/Zurich
BEGIN:STANDARD
DTSTART:20241027T020000
TZOFFSETFROM:+0200
TZOFFSETTO:+0100
TZNAME:CET
END:STANDARD
END:VTIMEZONE
END:VCALENDAR