BEGIN:VCALENDAR
VERSION:2.0
PRODID:-//wp-events-plugin.com//7.2.3.1//EN
TZID:Europe/Zurich
X-WR-TIMEZONE:Europe/Zurich
BEGIN:VEVENT
UID:200@leoniecachelin.com
DTSTART;TZID=Europe/Zurich:20251127T190000
DTEND;TZID=Europe/Zurich:20251127T190000
DTSTAMP:20251030T224828Z
URL:https://leoniecachelin.com/agenda/collection-automne-ensemble-diaphane
 -lieu-a-confirmer/
SUMMARY:Collection automne - Ensemble Diaphane
DESCRIPTION:Fidèle à sa récente tradition\, l’Ensemble Diaphane a le p
 laisir de proposer sa Collection Automne\, composée de ses pièces phares
 . Un moment a cappella pour découvrir et redécouvrir un répertoire rich
 e et varié pour voix de femmes.\n\nPlus d’informations à venir
ATTACH;FMTTYPE=image/jpeg:https://leoniecachelin.com/wp-content/uploads/20
 24/06/Capture-decran-2024-06-06-a-13.07.53.png
CATEGORIES:Chœur et ensemble
LOCATION:Église Saint-Laurent (VD)\, Lausanne \, Lausanne \, Suisse
X-APPLE-STRUCTURED-LOCATION;VALUE=URI;X-ADDRESS=Lausanne \, Lausanne \, Sui
 sse;X-APPLE-RADIUS=100;X-TITLE=Église Saint-Laurent (VD):geo:0,0
END:VEVENT
BEGIN:VTIMEZONE
TZID:Europe/Zurich
X-LIC-LOCATION:Europe/Zurich
BEGIN:STANDARD
DTSTART:20251026T020000
TZOFFSETFROM:+0200
TZOFFSETTO:+0100
TZNAME:CET
END:STANDARD
END:VTIMEZONE
END:VCALENDAR