BEGIN:VCALENDAR
VERSION:2.0
PRODID:-//wp-events-plugin.com//7.2.3.1//EN
TZID:Europe/Zurich
X-WR-TIMEZONE:Europe/Zurich
BEGIN:VEVENT
UID:206@leoniecachelin.com
DTSTART;TZID=Europe/Zurich:20260215T170000
DTEND;TZID=Europe/Zurich:20260215T181500
DTSTAMP:20260109T223904Z
URL:https://leoniecachelin.com/agenda/collection-hiver-ensemble-diaphane-2
 /
SUMMARY:Collection Hiver - Ensemble Diaphane
DESCRIPTION:L’Ensemble Diaphane a le plaisir de proposer sa collection hi
 ver à l’Eglise Saint-Sulpice de Font\, dans le cadre de l’Heure music
 ale !\n\nAu programme\, un panel des plus belles pièces extraites de nos 
 différents projets\, de Feminis-K à I want to live en passant par Hodie 
 Beata XXI et Jeunesses entrelacées.\n\nOeuvres de Beffa\, Burgan\, Caplet
 \, Lang\, Kocsar…
ATTACH;FMTTYPE=image/jpeg:https://leoniecachelin.com/wp-content/uploads/20
 23/07/Logo-fond-clair-.png
CATEGORIES:Chœur et ensemble
LOCATION:Eglise Saint-Sulpice\, Font\, Font\, Suisse
X-APPLE-STRUCTURED-LOCATION;VALUE=URI;X-ADDRESS=Font\, Font\, Suisse;X-APPL
 E-RADIUS=100;X-TITLE=Eglise Saint-Sulpice:geo:0,0
END:VEVENT
BEGIN:VTIMEZONE
TZID:Europe/Zurich
X-LIC-LOCATION:Europe/Zurich
BEGIN:STANDARD
DTSTART:20251026T020000
TZOFFSETFROM:+0200
TZOFFSETTO:+0100
TZNAME:CET
END:STANDARD
END:VTIMEZONE
END:VCALENDAR