BEGIN:VCALENDAR
VERSION:2.0
PRODID:-//wp-events-plugin.com//7.2.3.1//EN
TZID:Europe/Zurich
X-WR-TIMEZONE:Europe/Zurich
BEGIN:VEVENT
UID:173@leoniecachelin.com
DTSTART;TZID=Europe/Zurich:20250112T170000
DTEND;TZID=Europe/Zurich:20250112T181500
DTSTAMP:20241216T140733Z
URL:https://leoniecachelin.com/agenda/collection-hiver-neuchatel-ensemble-
 diaphane/
SUMMARY:Collection hiver - Neuchâtel - Ensemble Diaphane
DESCRIPTION:\n\n\n\nCollection Hiver 2025 représente le deuxième volet de
  notre série de\nconcerts Collections\, lancée au printemps 2024\, visan
 t à établir deux\nrencontres par saison pour un développement à long t
 erme. Notre\nobjectif est d’élargir et de fidéliser notre public\, mai
 s aussi de\nrassembler nos membres et nos soutiens lors de rendez-vous\nbi
 annuels\, tout en renforçant notre présence dans la vie culturelle\nloca
 le.\nPour cette collection\, nous avons choisi de mettre en avant des piè
 ces\nextraites de tous nos programmes\, dont Winter Kaléidoscope\, qui se
 ra encore tout juste de saison !\nL’Ensemble Diaphane\, fidèle à sa li
 gne artistique\, se consacre à la\npromotion de la musique vocale moderne
  et contemporaine\, a\ncappella ou avec un petit effectif instrumental.\nT
 out comme pour la première Collection\, le programme comprend\nune partie
  musicale déjà interprétée lors de nos concerts précédents\,\nmettan
 t ainsi en valeur notre travail dans la durée\, ainsi qu’une partie\nsp
 écialement créée pour l’occasion.\n\nProgramme\n\nJ-F Michel\, J. Tav
 ener\, J. Maillefer\, F. Poulenc\, O. Gjeilo\, A. Caplet et d’autres enc
 ore\n\nhttps://vimeo.com/manage/videos/979198746/a6523bc54a\n\n\n\n\n\n\n\
 n\n\n\n\nhttps://ensemblediaphane.com\n\n\n\n\n\n\n\n
ATTACH;FMTTYPE=image/jpeg:https://leoniecachelin.com/wp-content/uploads/20
 24/06/Capture-decran-2024-06-06-a-13.07.53.png
CATEGORIES:Chœur et ensemble
LOCATION:Temple Saint-Blaise\, Saint-Blaise\, Neuchâtel\, Suisse
X-APPLE-STRUCTURED-LOCATION;VALUE=URI;X-ADDRESS=Saint-Blaise\, Neuchâtel\,
  Suisse;X-APPLE-RADIUS=100;X-TITLE=Temple Saint-Blaise:geo:0,0
END:VEVENT
BEGIN:VTIMEZONE
TZID:Europe/Zurich
X-LIC-LOCATION:Europe/Zurich
BEGIN:STANDARD
DTSTART:20241027T020000
TZOFFSETFROM:+0200
TZOFFSETTO:+0100
TZNAME:CET
END:STANDARD
END:VTIMEZONE
END:VCALENDAR