BEGIN:VCALENDAR
VERSION:2.0
PRODID:-//wp-events-plugin.com//7.2.3.1//EN
TZID:Europe/Zurich
X-WR-TIMEZONE:Europe/Zurich
BEGIN:VEVENT
UID:208@leoniecachelin.com
DTSTART;TZID=Europe/Zurich:20260307T200000
DTEND;TZID=Europe/Zurich:20260307T200000
DTSTAMP:20260215T225748Z
URL:https://leoniecachelin.com/agenda/collection-printemps-ensemble-diapha
 ne-lausanne/
SUMMARY:Collection printemps - Ensemble Diaphane - Lausanne
DESCRIPTION:Fidèle à sa récente tradition\, l’Ensemble Diaphane a le p
 laisir de proposer sa Collection Hiver\, composée de ses pièces phares.\
 n\nOeuvres de Poulenc\, Duruflé-Chevalier\, Pelle-Gudmundsen\, McIntyre\,
  Koscsár\, et autres.
ATTACH;FMTTYPE=image/jpeg:https://leoniecachelin.com/wp-content/uploads/20
 24/06/Capture-decran-2024-06-06-a-13.07.53.png
CATEGORIES:Chœur et ensemble
LOCATION:Eglise Saint-Laurent\, Rue Saint-Laurent\, Lausanne\, 
X-APPLE-STRUCTURED-LOCATION;VALUE=URI;X-ADDRESS=Rue Saint-Laurent\, Lausann
 e\, ;X-APPLE-RADIUS=100;X-TITLE=Eglise Saint-Laurent:geo:0,0
END:VEVENT
BEGIN:VTIMEZONE
TZID:Europe/Zurich
X-LIC-LOCATION:Europe/Zurich
BEGIN:STANDARD
DTSTART:20251026T020000
TZOFFSETFROM:+0200
TZOFFSETTO:+0100
TZNAME:CET
END:STANDARD
END:VTIMEZONE
END:VCALENDAR