BEGIN:VCALENDAR
VERSION:2.0
PRODID:-//wp-events-plugin.com//7.2.3.1//EN
TZID:Europe/Zurich
X-WR-TIMEZONE:Europe/Zurich
BEGIN:VEVENT
UID:207@leoniecachelin.com
DTSTART;TZID=Europe/Zurich:20260305T190000
DTEND;TZID=Europe/Zurich:20260305T190000
DTSTAMP:20260217T195119Z
URL:https://leoniecachelin.com/agenda/collection-printemps-ensemble-diapha
 ne/
SUMMARY:Collection printemps - Ensemble Diaphane - Genève
DESCRIPTION:Fidèle à sa récente tradition\, l’Ensemble Diaphane a le p
 laisir de proposer sa Collection Printemps\, composée de ses pièces phar
 es.\n\nOeuvres de Poulenc\, Duruflé-Chevalier\, Pelle-Gudmundsen\, McInty
 re\, Koscsár\, et autres.
ATTACH;FMTTYPE=image/jpeg:https://leoniecachelin.com/wp-content/uploads/20
 24/06/Capture-decran-2024-06-06-a-13.07.53.png
CATEGORIES:Chœur et ensemble
LOCATION:Temple de Plainpalais\, Plainpalais\, Genève\, Suisse
X-APPLE-STRUCTURED-LOCATION;VALUE=URI;X-ADDRESS=Plainpalais\, Genève\, Sui
 sse;X-APPLE-RADIUS=100;X-TITLE=Temple de Plainpalais:geo:0,0
END:VEVENT
BEGIN:VTIMEZONE
TZID:Europe/Zurich
X-LIC-LOCATION:Europe/Zurich
BEGIN:STANDARD
DTSTART:20251026T020000
TZOFFSETFROM:+0200
TZOFFSETTO:+0100
TZNAME:CET
END:STANDARD
END:VTIMEZONE
END:VCALENDAR