BEGIN:VCALENDAR
VERSION:2.0
PRODID:-//wp-events-plugin.com//7.2.3.1//EN
TZID:Europe/Zurich
X-WR-TIMEZONE:Europe/Zurich
BEGIN:VEVENT
UID:159@leoniecachelin.com
DTSTART;TZID=Europe/Zurich:20241211T200000
DTEND;TZID=Europe/Zurich:20241211T200000
DTSTAMP:20240925T135832Z
URL:https://leoniecachelin.com/agenda/concert-de-lorchestre-et-du-choeur-d
 e-lunige/
SUMMARY:Concert de l'Orchestre et du Choeur de l'UNIGE
DESCRIPTION:Concert de l'Orchestre et du Choeur de l'UNIGE\nDirection : J. 
 Baubérot\nPréparation du choeur : L. Cachelin\n&nbsp\;\nProgramme\nFelix
  Mendelssohn\n\n 	ouverture: l’orchestre va voter entre Mer Calme et Heu
 reux Voyage ou l’ouverture des Hébrides.\n 	Verleih uns Frieden gnädig
 lich\, WoO 5\n 	Christus\, Choeur n°3\n\nAugusta Holmès\n\n 	Ludus pro p
 atria interlude\, La Nuit et l'Amour\n\nGabriel Fauré\n\n 	Pavane\, versi
 on avec chœur\n 	Cantique de Jean Racine\n 	Pelléas et Mélisandre\, Op.
 80\n
ATTACH;FMTTYPE=image/jpeg:https://leoniecachelin.com/wp-content/uploads/20
 24/09/IMG_4478.jpg
CATEGORIES:Direction de choeur
LOCATION:Eglise Notre-Dame-des-Grâces (GE)\, Avenue des Communes-Réunies 
 5\, Lancy\, Suisse
X-APPLE-STRUCTURED-LOCATION;VALUE=URI;X-ADDRESS=Avenue des Communes-Réunie
 s 5\, Lancy\, Suisse;X-APPLE-RADIUS=100;X-TITLE=Eglise Notre-Dame-des-Grâ
 ces (GE):geo:0,0
END:VEVENT
BEGIN:VTIMEZONE
TZID:Europe/Zurich
X-LIC-LOCATION:Europe/Zurich
BEGIN:STANDARD
DTSTART:20241027T020000
TZOFFSETFROM:+0200
TZOFFSETTO:+0100
TZNAME:CET
END:STANDARD
END:VTIMEZONE
END:VCALENDAR