BEGIN:VCALENDAR
VERSION:2.0
PRODID:-//wp-events-plugin.com//7.2.3.1//EN
TZID:Europe/Zurich
X-WR-TIMEZONE:Europe/Zurich
BEGIN:VEVENT
UID:184@leoniecachelin.com
DTSTART;TZID=Europe/Zurich:20250525T170000
DTEND;TZID=Europe/Zurich:20250525T183000
DTSTAMP:20250131T173134Z
URL:https://leoniecachelin.com/agenda/concert-du-choeur-de-luniversite-de-
 geneve-dir-l-cachelin/
SUMMARY:Concert du Choeur de l'Université de Genève - Dir. L. Cachelin
DESCRIPTION:ANTONIO VIVALDI\nKyrie (RV 587)\, Gloria (RV 589)\, Domine ad a
 djuvandum me (RV 593) et Magnificat (RV 610)\nTrès connu et apprécié\, 
 le Gloria (RV 589) d’Antonio Vivaldi n’est pourtant pas sa seule oeuvr
 e chorale digne d’intérêt ! Riche d’un catalogue de plus de quarante
  pièces se partageant entre motets et extraits de messes\, sa musique sac
 rée met bien à souvent à l’honneur le choeur comme intervenant de pre
 mier plan\, c’est par exemple le cas du Kyrie (RV 588) ou du Domine ad a
 djuvandum me (RV 593)\, pièces sublimes écrites pour double-choeur et do
 uble-orchestre. Son Magnificat (RV 610) bénéficie d’un traitement asse
 z similaire au Gloria\, variant les prises de paroles du choeur et les ext
 raits portés par des solistes. Le point commun de ces quatre oeuvres\, ou
 tre leur caractère sacré\, c’est ce fort contraste entre des instants 
 de joie exubérante et d’autres emprunts de contemplation spirituelle\, 
 qui sont à l’origine de ce fantastique sentiment d’équilibre à l’
 écoute de cette musique.\n\nChoeur de l'Université de Genève\n\nOrchest
 re de la HEM\n\nMarine Margot\, soprano\nJulia Deit-Ferrand\, mezzo\n\nLé
 onie Cachelin\, direction
ATTACH;FMTTYPE=image/jpeg:https://leoniecachelin.com/wp-content/uploads/20
 24/01/DSC00708-scaled.jpg
CATEGORIES:Direction de choeur
LOCATION:Victoria Hall\, Rue du Général-Dufour\, Genève\, Suisse
X-APPLE-STRUCTURED-LOCATION;VALUE=URI;X-ADDRESS=Rue du Général-Dufour\, G
 enève\, Suisse;X-APPLE-RADIUS=100;X-TITLE=Victoria Hall:geo:0,0
END:VEVENT
BEGIN:VTIMEZONE
TZID:Europe/Zurich
X-LIC-LOCATION:Europe/Zurich
BEGIN:DAYLIGHT
DTSTART:20250330T030000
TZOFFSETFROM:+0100
TZOFFSETTO:+0200
TZNAME:CEST
END:DAYLIGHT
END:VTIMEZONE
END:VCALENDAR