BEGIN:VCALENDAR
VERSION:2.0
PRODID:-//wp-events-plugin.com//7.2.3.1//EN
TZID:Europe/Zurich
X-WR-TIMEZONE:Europe/Zurich
BEGIN:VEVENT
UID:211@leoniecachelin.com
DTSTART;TZID=Europe/Zurich:20260503T170000
DTEND;TZID=Europe/Zurich:20260503T170000
DTSTAMP:20260228T165356Z
URL:https://leoniecachelin.com/agenda/concert-du-choeur-de-luniversite-moz
 art-haydn-et-martines/
SUMMARY:Concert du Choeur de l'Université - Mozart\, Haydn et Martines
DESCRIPTION:Concert du Choeur de l'Université\n\n 	M. Martines: Dixit Domi
 nus\n 	J. Haydn: Te deum\, Hob.XXIIIc:2\n 	W.A. Mozart: Coronation Mass in
  C Major K.317\n\nFaustine Egiziano\, soprano\nStéphanie Guérin\, mezzo 
 soprano\nMaxence Billiemaz\, ténor\nRomain Favre\, basse\nOrchestre de la
  HEM\nLéonie Cachelin\, direction
ATTACH;FMTTYPE=image/jpeg:https://leoniecachelin.com/wp-content/uploads/20
 25/10/AC_07838-scaled.jpeg
CATEGORIES:Direction de choeur
LOCATION:Victoria Hall\, Rue du Général-Dufour\, Genève\, Suisse
X-APPLE-STRUCTURED-LOCATION;VALUE=URI;X-ADDRESS=Rue du Général-Dufour\, G
 enève\, Suisse;X-APPLE-RADIUS=100;X-TITLE=Victoria Hall:geo:0,0
END:VEVENT
BEGIN:VTIMEZONE
TZID:Europe/Zurich
X-LIC-LOCATION:Europe/Zurich
BEGIN:DAYLIGHT
DTSTART:20260329T030000
TZOFFSETFROM:+0100
TZOFFSETTO:+0200
TZNAME:CEST
END:DAYLIGHT
END:VTIMEZONE
END:VCALENDAR