BEGIN:VCALENDAR
VERSION:2.0
PRODID:-//wp-events-plugin.com//7.2.3.1//EN
TZID:Europe/Zurich
X-WR-TIMEZONE:Europe/Zurich
BEGIN:VEVENT
UID:201@leoniecachelin.com
DTSTART;TZID=Europe/Zurich:20251212T120000
DTEND;TZID=Europe/Zurich:20251212T122000
DTSTAMP:20250928T120009Z
URL:https://leoniecachelin.com/agenda/concert-happening-du-choeur-de-luniv
 ersite-dir-leonie-cachelin/
SUMMARY:Concert-happening du choeur de l'Université - Dir. Léonie Cacheli
 n
DESCRIPTION:Concert-happening du choeur de l'Université\nA l'occasion des 
 festivités de l'Escalade\, le choeur de l'Université propose quelques ex
 traits de son travail annuel dans un concert spatialisé dans le hall de U
 ni Mail.\nFabiola Bartoli\, piano\nLéonie Cachelin\, direction
ATTACH;FMTTYPE=image/jpeg:https://leoniecachelin.com/wp-content/uploads/20
 24/09/IMG_4478.jpg
CATEGORIES:Direction de choeur
LOCATION:Hall de Uni-Mail\, Uni-Mail\, Genève\, Suisse
X-APPLE-STRUCTURED-LOCATION;VALUE=URI;X-ADDRESS=Uni-Mail\, Genève\, Suisse
 ;X-APPLE-RADIUS=100;X-TITLE=Hall de Uni-Mail:geo:0,0
END:VEVENT
BEGIN:VTIMEZONE
TZID:Europe/Zurich
X-LIC-LOCATION:Europe/Zurich
BEGIN:STANDARD
DTSTART:20251026T020000
TZOFFSETFROM:+0200
TZOFFSETTO:+0100
TZNAME:CET
END:STANDARD
END:VTIMEZONE
END:VCALENDAR