BEGIN:VCALENDAR
VERSION:2.0
PRODID:-//wp-events-plugin.com//7.2.3.1//EN
TZID:Europe/Zurich
X-WR-TIMEZONE:Europe/Zurich
BEGIN:VEVENT
UID:202@leoniecachelin.com
DTSTART;TZID=Europe/Zurich:20251102T100000
DTEND;TZID=Europe/Zurich:20251102T100000
DTSTAMP:20251030T215538Z
URL:https://leoniecachelin.com/agenda/cultes-cantates-st-imier-et-bienne-m
 ezzo-solo/
SUMMARY:Cultes cantates - St-Imier et Bienne - Mezzo solo
DESCRIPTION:Culte-Cantate\nAu programme : J. S. Bach – Gott der Herr ist 
 Sonn und Schild et Telemann – Ein’ feste Burg ist unser Gott.\n\nVocal
 titude - direction : Manuel Gerber\n\nSolistes : Carlyn Monnin (soprano)\,
  Léonie Cachelin (alto)\, Fabrice Hayoz (basse)\n\nEntrée libre\, collec
 te\n\nCulte-Cantate le 2 novembre à 10 h à la Collégiale de Saint-Imier
  et à 17 h au Temple allemand de Bienne
ATTACH;FMTTYPE=image/jpeg:https://leoniecachelin.com/wp-content/uploads/20
 24/05/IMG_0432-scaled.jpeg
CATEGORIES:Mezzo solo
LOCATION:Collégiale de St-Imier\, St-Imier\, St-Imier\, Suisse
X-APPLE-STRUCTURED-LOCATION;VALUE=URI;X-ADDRESS=St-Imier\, St-Imier\, Suiss
 e;X-APPLE-RADIUS=100;X-TITLE=Collégiale de St-Imier:geo:0,0
END:VEVENT
BEGIN:VTIMEZONE
TZID:Europe/Zurich
X-LIC-LOCATION:Europe/Zurich
BEGIN:STANDARD
DTSTART:20251026T020000
TZOFFSETFROM:+0200
TZOFFSETTO:+0100
TZNAME:CET
END:STANDARD
END:VTIMEZONE
END:VCALENDAR