BEGIN:VCALENDAR
VERSION:2.0
PRODID:-//wp-events-plugin.com//7.2.3.1//EN
TZID:Europe/Zurich
X-WR-TIMEZONE:Europe/Zurich
BEGIN:VEVENT
UID:177@leoniecachelin.com
DTSTART;TZID=Europe/Zurich:20250403T200000
DTEND;TZID=Europe/Zurich:20250403T211500
DTSTAMP:20250227T221410Z
URL:https://leoniecachelin.com/agenda/eclats-cuivres-evl/
SUMMARY:Eclats cuivrés - Gloria\, A. Vivaldi - alto solo
DESCRIPTION:\nÉCLATS CUIVRÉS\n\n\n\n\n\n\n\n\n\n\n\n\n\nC’est à un vé
 ritable feu d’artifice musical que l’Ensemble Vocal de Lausanne et le 
 Geneva Brass convient le public ! Le Gloria de Vivaldi en sera l’œuvre 
 maîtresse. Entre contrepoint et bel canto\, son écriture variée et trè
 s réussie a fait son succès. Composée à Venise autour de 1710 cette œ
 uvre parfois enjouée\, parfois mystérieuse fait partie des plus célèbr
 es du compositeur.\n\nContrastant avec le style du compositeur italien\, l
 a Musique pour les funérailles de la Reine Mary a été écrite quelques 
 années plus tôt par Henry Purcell en respectant le style de ses prédéc
 esseurs. Très populaire dans son pays et passionnée de musique\, Mary ap
 préciait vraisemblablement la musique de son compositeur attitré. Accomp
 agnant sa vie\, Purcell lui a offert la musique de son couronnement\, puis
  une ode célébrant son anniversaire chaque année.\n\nCe concert donnera
  enfin l'occasion d'entendre le Gloria de Christophe Sturzenegger\, en cr
 éation (commande)\, qui s'inscrit dans la continuité de sa production to
 nale ou polytonale\, qui se veut en décalage (anachronique) avec la créa
 tion contemporaine actuelle.\n\nLa chaleur des voix de l’EVL et la brill
 ance du son des cuivres s’uniront pour cette soirée exceptionnelle.\n\n
 \n\nPROGRAMME\n\nA. Vivaldi\, Gloria RV 589k\, arrangement Vincent Métrai
 ller\nH. Purcell\, Musique pour les funérailles de la reine\nMary\nC. Stu
 rzenegger\, Gloria (création)\n\n\n\n\n\n\nEnsemble Vocal de Lausanne\n\n
 Solistes de l’EVL\nGeneva Brass\n\nArthur Saunier orgue\n\nPierre-Fabien
  Roubaty direction\n\n\n
ATTACH;FMTTYPE=image/jpeg:https://leoniecachelin.com/wp-content/uploads/20
 24/08/Capture-decran-2024-08-29-a-19.29.46.png
CATEGORIES:Chœur et ensemble,Mezzo solo
LOCATION:Temple de la Madeleine\,  Rue de la Madeleine 15\, Genève\, Suiss
 e
X-APPLE-STRUCTURED-LOCATION;VALUE=URI;X-ADDRESS= Rue de la Madeleine 15\, G
 enève\, Suisse;X-APPLE-RADIUS=100;X-TITLE=Temple de la Madeleine:geo:0,0
END:VEVENT
BEGIN:VTIMEZONE
TZID:Europe/Zurich
X-LIC-LOCATION:Europe/Zurich
BEGIN:DAYLIGHT
DTSTART:20250330T030000
TZOFFSETFROM:+0100
TZOFFSETTO:+0200
TZNAME:CEST
END:DAYLIGHT
END:VTIMEZONE
END:VCALENDAR