BEGIN:VCALENDAR
VERSION:2.0
PRODID:-//wp-events-plugin.com//7.2.3.1//EN
TZID:Europe/Zurich
X-WR-TIMEZONE:Europe/Zurich
BEGIN:VEVENT
UID:212@leoniecachelin.com
DTSTART;TZID=Europe/Zurich:20260508T200000
DTEND;TZID=Europe/Zurich:20260508T200000
DTSTAMP:20260228T170219Z
URL:https://leoniecachelin.com/agenda/gloria-a-vivaldi-choeur-de-pontverre
 -mezzo-solo/
SUMMARY:Gloria\, A. Vivaldi - Choeur de Pontverre\, mezzo solo
DESCRIPTION:Gloria de Vivaldi\nGergana Kusheva\, soprano\nLéonie Cachelin\
 , mezzo soprano\nArthur Saunier\, orgue\nGeneva Brass\nChoeur de Pontverre
 \n\nMarie-Isabelle Pernoud\, direction\nProgramme:\nGloria de A. Vivaldi\n
 Duo "Son nata a lagrimar" de G.F. Haendel (Giulio Cesare in Egitto\, HWV 1
 7\, Act 1)\nLullaby\, 2ème mouvement de First Suite pour quintette de cui
 vres d’Etienne Crausaz\nMissa "Ibi gaudium est" de E. Crausaz\nLittlemor
 e Tractus A. Pärt\nWells Jubilate de J. Rutter\nOpen thou mine eyes de J.
  Rutter
ATTACH;FMTTYPE=image/jpeg:https://leoniecachelin.com/wp-content/uploads/20
 24/01/DSC00673-scaled.jpg
CATEGORIES:Mezzo solo
LOCATION:Temple de la Madeleine\,  Rue de la Madeleine 15\, Genève\, Suiss
 e
X-APPLE-STRUCTURED-LOCATION;VALUE=URI;X-ADDRESS= Rue de la Madeleine 15\, G
 enève\, Suisse;X-APPLE-RADIUS=100;X-TITLE=Temple de la Madeleine:geo:0,0
END:VEVENT
BEGIN:VTIMEZONE
TZID:Europe/Zurich
X-LIC-LOCATION:Europe/Zurich
BEGIN:DAYLIGHT
DTSTART:20260329T030000
TZOFFSETFROM:+0100
TZOFFSETTO:+0200
TZNAME:CEST
END:DAYLIGHT
END:VTIMEZONE
END:VCALENDAR