BEGIN:VCALENDAR
VERSION:2.0
PRODID:-//wp-events-plugin.com//7.2.3.1//EN
TZID:Europe/Zurich
X-WR-TIMEZONE:Europe/Zurich
BEGIN:VEVENT
UID:196@leoniecachelin.com
DTSTART;TZID=Europe/Zurich:20251121T193000
DTEND;TZID=Europe/Zurich:20251121T210000
DTSTAMP:20250909T113026Z
URL:https://leoniecachelin.com/agenda/gloria-a-vivaldi-evl-dir-t-fischer-m
 ezzo-solo/
SUMMARY:Gloria\, A. Vivaldi - EVL\, dir. T. Fischer - mezzo solo
DESCRIPTION:Et La Vie l'Emporta\n\nMarine Margot soprano\nCindy Favre-Victo
 ire soprano\nLéonie Cachelin mezzo-soprano\nLudmila Schwartzwalder mezzo-
 soprano\nGeoffroy Perruchoud basse\n\nOrchestre Odyssée Frank Martin\nThi
 erry Fischer direction\n\nCréée en 1975 par l’Ensemble Vocal de Lausan
 ne placé sous la direction de Michel Corboz\, Et la vie l’emporta est l
 a dernière oeuvre de Frank Martin. Accompagnée d’un effectif instrumen
 tal proche de celui des cantates de Bach\, l’oeuvre se divise en trois p
 arties : Imploration met en musique un très beau poème de Maurice Zundel
 \, Combat\, un mouvement vif qui figure le combat contre la maladie et Off
 rande qui termine l’oeuvre dans la lumière.\n\nLe Gloria d’Antonio Vi
 valdi est une pièce emblématique du répertoire baroque qui se distingue
  par sa vivacité\, ses contrastes\, son éclat et son expressivité. Il c
 oncentre les principaux procédés d’écritures caractéristiques du com
 positeur\, mais offre également une vision de ce que pouvait être la mus
 ique religieuse italienne au XVIIIe siècle en général et à Venise en p
 articulier. L’EVL se réjouit de poursuivre ce voyage dans l’oeuvre de
  Frank Martin en compagnie de Thierry Fischer.\n\nPROGRAMME\nF. Martin - E
 t la vie l’emporta\nA. Vivaldi - Gloria\, RV 889\nC. Ives - The unanswer
 ed question\n\nhttps://evl.ch/event/et-la-vie-l-emporta
ATTACH;FMTTYPE=image/jpeg:https://leoniecachelin.com/wp-content/uploads/20
 24/08/Capture-decran-2024-08-29-a-19.29.46.png
CATEGORIES:Mezzo solo
LOCATION:Temple de Saint-Gervais\, Rue des Terreaux-du-Temple 12\, Genève\
 , Suisse
X-APPLE-STRUCTURED-LOCATION;VALUE=URI;X-ADDRESS=Rue des Terreaux-du-Temple 
 12\, Genève\, Suisse;X-APPLE-RADIUS=100;X-TITLE=Temple de Saint-Gervais:g
 eo:0,0
END:VEVENT
BEGIN:VTIMEZONE
TZID:Europe/Zurich
X-LIC-LOCATION:Europe/Zurich
BEGIN:STANDARD
DTSTART:20251026T020000
TZOFFSETFROM:+0200
TZOFFSETTO:+0100
TZNAME:CET
END:STANDARD
END:VTIMEZONE
END:VCALENDAR