BEGIN:VCALENDAR
VERSION:2.0
PRODID:-//wp-events-plugin.com//7.2.3.1//EN
TZID:Europe/Zurich
X-WR-TIMEZONE:Europe/Zurich
BEGIN:VEVENT
UID:185@leoniecachelin.com
DTSTART;TZID=Europe/Zurich:20250626T200000
DTEND;TZID=Europe/Zurich:20250626T213000
DTSTAMP:20250623T112042Z
URL:https://leoniecachelin.com/agenda/harmonies-dete-evl-et-sinfonietta-de
 -lausanne/
SUMMARY:Harmonies d'été - EVL et Sinfonietta de Lausanne
DESCRIPTION:\n\n\nAujourd’hui considérée comme un monument de la musiqu
 e vocale\, la Messe n°6 de Franz Schubert est une œuvre que le composite
 ur n’a jamais entendue de son vivant. Composée peu avant son décès\, 
 elle fut créée à Vienne en 1829 sous la direction de son frère. On y p
 erçoit l’influence des grands maîtres qui l’ont précédé – Mozar
 t\, Bach\, Haydn\, Beethoven – mais l’œuvre témoigne avant tout de l
 a maturité exceptionnelle de Schubert. Son écriture vocale\, d’une flu
 idité remarquable\, met en valeur un texte qu’il a lui-même choisi pou
 r sa force expressive. L’alternance entre passages d’une grande ferveu
 r et moments d’introspection confère à cette messe un relief singulier
 \, où la sensibilité schubertienne s’épanouit pleinement.\n\nDans un 
 tout autre registre\, Christus\, oratorio inachevé de Felix Mendelssohn\,
  illustre également l’attachement du compositeur à la tradition choral
 e sacrée. Inspiré par Bach et Haendel\, Mendelssohn y déploie un lyrism
 e à la fois sobre et profond\, servi par une écriture chorale d’une gr
 ande clarté. Bien que fragmentaire\, cette œuvre offre des moments d’u
 ne intensité saisissante\, notamment dans les chœurs et récitatifs qui 
 relatent la Passion du Christ avec une expressivité poignante.\n\nUn mome
 nt profond et intime proposé par l’EVL accompagné par le Sinfonietta d
 e Lausanne.\n\n\n\nPROGRAMME\n\nFelix Mendelssohn - Christus\nFranz Schube
 rt - Messe en mi bémol majeur\n\n\n\n\n\n\nEnsemble Vocal de Lausanne\nMa
 rine Margot SOPRANO\nLudmila Schwartzwalder MEZZO SOPRANO\nAugustin Laudet
  TENOR\nJonathan Spicher TENOR\nSimon Ruffieux BARYTON\n\nOrchestre Sinfon
 ietta de Lausanne\n\nPierre-Fabien Roubaty DIRECTION\n\n\n
ATTACH;FMTTYPE=image/jpeg:https://leoniecachelin.com/wp-content/uploads/20
 22/11/FD466ACA-6658-4F8C-9F7A-3201AB29123D.jpeg
CATEGORIES:Chœur et ensemble
LOCATION:Cathédrale de Lausanne\, Lausanne\, VD\, Suisse
X-APPLE-STRUCTURED-LOCATION;VALUE=URI;X-ADDRESS=Lausanne\, VD\, Suisse;X-AP
 PLE-RADIUS=100;X-TITLE=Cathédrale de Lausanne:geo:0,0
END:VEVENT
BEGIN:VTIMEZONE
TZID:Europe/Zurich
X-LIC-LOCATION:Europe/Zurich
BEGIN:DAYLIGHT
DTSTART:20250330T030000
TZOFFSETFROM:+0100
TZOFFSETTO:+0200
TZNAME:CEST
END:DAYLIGHT
END:VTIMEZONE
END:VCALENDAR