BEGIN:VCALENDAR
VERSION:2.0
PRODID:-//wp-events-plugin.com//7.2.3.1//EN
TZID:Europe/Zurich
X-WR-TIMEZONE:Europe/Zurich
BEGIN:VEVENT
UID:187@leoniecachelin.com
DTSTART;TZID=Europe/Zurich:20250601T180000
DTEND;TZID=Europe/Zurich:20250601T191500
DTSTAMP:20250503T194030Z
URL:https://leoniecachelin.com/agenda/i-want-to-live-ensemble-diaphane-3/
SUMMARY:I want to live - Ensemble Diaphane
DESCRIPTION:I WANT TO LIVE\nEn mêlant textes poétiques profanes et sacré
 s\, le jeune Ensemble Diaphane propose un programme de chants a cappella m
 odernes et contemporains\, sur le thème ‘I want to live’\, qui s’ou
 vre à la méditation sur le sens de l’existence à travers les notions 
 de vie et de mort.\n\nOeuvres de Poulenc\, Lang\, Rautavaara\, Kocsar\, Ch
 arrière…
ATTACH;FMTTYPE=image/jpeg:https://leoniecachelin.com/wp-content/uploads/20
 24/06/Capture-decran-2024-06-06-a-13.07.53.png
CATEGORIES:Chœur et ensemble
LOCATION:Église de Cully\, Cully \, VD\, Suisse
X-APPLE-STRUCTURED-LOCATION;VALUE=URI;X-ADDRESS=Cully \, VD\, Suisse;X-APPL
 E-RADIUS=100;X-TITLE=Église de Cully:geo:0,0
END:VEVENT
BEGIN:VTIMEZONE
TZID:Europe/Zurich
X-LIC-LOCATION:Europe/Zurich
BEGIN:DAYLIGHT
DTSTART:20250330T030000
TZOFFSETFROM:+0100
TZOFFSETTO:+0200
TZNAME:CEST
END:DAYLIGHT
END:VTIMEZONE
END:VCALENDAR