BEGIN:VCALENDAR
VERSION:2.0
PRODID:-//wp-events-plugin.com//7.2.3.1//EN
TZID:Europe/Zurich
X-WR-TIMEZONE:Europe/Zurich
BEGIN:VEVENT
UID:214@leoniecachelin.com
DTSTART;TZID=Europe/Zurich:20260517T170000
DTEND;TZID=Europe/Zurich:20260517T170000
DTSTAMP:20260228T170734Z
URL:https://leoniecachelin.com/agenda/i-want-to-live-ensemble-diaphane-4/
SUMMARY:I want to live - Ensemble Diaphane
DESCRIPTION:I want to live\nEn mêlant textes poétiques profanes et textes
  sacrés\, l’Ensemble Diaphane propose un programme méditatif sur un gr
 and thème de notre humanité : le sens de l’existence à travers les no
 tions de vie et de mort. Du figuralisme à la litanie en passant par la po
 ésie et la prière\, les œuvres de ce programme invitent les auditeur·r
 ice·s dans des langages musicaux variés et contrastants\, questionnant 
 à leur manière l’inexplicable\, évoquant la peur et l’angoisse comm
 e le soulagement et la libération que peuvent inspirer l’idée de notre
  finitude. Absurdité de l’existence\, pulsion de vie\, ferveur… face 
 à l’éternel mystère de deux mondes qui ne peuvent exister l’un sans
  l’autre\, la musique est un pont\, une porte d’entrée vers ce qui es
 t tangible : l’instant présent.\nL’Ensemble Diaphane propose dans ce 
 programme un travail de l’espace et du son avec des déplacements à tra
 vers l’église ou le temple ainsi que des improvisations vocales. Le pro
 gramme et son déroulement tant musical que spatial sont construits pour f
 avoriser l’expérience introspective et la méditation\, invitant à res
 sentir l’espace sacré qui nous habite au-delà de toute religion ou cro
 yance.\nProgramme\nFrancis Poulenc (1899 – 1963) Ave verum corpus\nDavid
  Lang (1957 -) I want to live\nAurélien Hallopeau (1995 -) La tombe et la
  rose\nEva Ugalde (1973 -) Miserere\nPelle Gudmundsen-Holmgreen (1932 – 
 2016) Statements\nMiklós Kocsár (1933 – 2019) Libera me\nEinojuhani Ra
 utavaara (1928 – 2016) Suite de Lorca\nKarol Beffa (1973 -) Je vis\, je 
 meurs\nCaroline Charrière (1960 – 2018) Agnus dei
ATTACH;FMTTYPE=image/jpeg:https://leoniecachelin.com/wp-content/uploads/20
 24/06/Capture-decran-2024-06-06-a-13.07.53.png
CATEGORIES:Chœur et ensemble
LOCATION:Temple d'Orbe\, Rue du Château\, Orbe\, Suisse
X-APPLE-STRUCTURED-LOCATION;VALUE=URI;X-ADDRESS=Rue du Château\, Orbe\, Su
 isse;X-APPLE-RADIUS=100;X-TITLE=Temple d'Orbe:geo:0,0
END:VEVENT
BEGIN:VTIMEZONE
TZID:Europe/Zurich
X-LIC-LOCATION:Europe/Zurich
BEGIN:DAYLIGHT
DTSTART:20260329T030000
TZOFFSETFROM:+0100
TZOFFSETTO:+0200
TZNAME:CEST
END:DAYLIGHT
END:VTIMEZONE
END:VCALENDAR