BEGIN:VCALENDAR
VERSION:2.0
PRODID:-//wp-events-plugin.com//7.2.3.1//EN
TZID:Europe/Zurich
X-WR-TIMEZONE:Europe/Zurich
BEGIN:VEVENT
UID:183@leoniecachelin.com
DTSTART;TZID=Europe/Zurich:20250504T170000
DTEND;TZID=Europe/Zurich:20250504T180000
DTSTAMP:20250131T171620Z
URL:https://leoniecachelin.com/agenda/jeunesses-entrelacees-ensemble-diaph
 ane-2/
SUMMARY:Jeunesses entrelacées - Ensemble Diaphane
DESCRIPTION:Invité par l’Azimut\, l’Ensemble Diaphane aura le plaisir 
 de proposer au public son programme Jeunesses entrelacées. \n\nJeunesse
 s entrelacées est un programme entièrement a cappella à voix égales o
 ù l’Ensemble Diaphane souhaite croiser des pièces adressées à la jeu
 nesse par leurs textes et leurs formes.\nIl s’adresse certes aux jeunes\
 , mais il touche également le monde des adultes et éveille l’enfant ta
 pi en chacun de nous. Les grands seront sensibles à la portée poétique\
 , symbolique et dramatique des textes dont les différents niveaux de lect
 ure sont admirablement mis en musique par les compositeur.trice.s de ce pr
 ogramme.\n\nLe cycle Naissances de P. Burgan résonne dans notre ensemble.
  Qu’évoque le mot « naissance » pour l’Ensemble Diaphane ? Rencontr
 e nouvelle\, espoir pour l’être né et pour soi\, élan vital qui nous 
 anime. Ces idées résonnent très justement avec les pièces que nous avo
 ns choisies et que nous avons à cœur de partager avec un public en quêt
 e de renouveau et de partage. »\n\nAu programme : Poulenc\, Charrière\
 , Burgan\, Beffa\, Duruflé-Chevalier\, Ibert…\nInformations et réserva
 tions : https://l-azimut.ch/evenement/diaphane/
ATTACH;FMTTYPE=image/jpeg:https://leoniecachelin.com/wp-content/uploads/20
 24/06/Capture-decran-2024-06-06-a-13.07.53.png
CATEGORIES:Chœur et ensemble
LOCATION:L'Azimut\, Estavayer-le-Lac\, Estavayer-le-Lac\, Suisse
X-APPLE-STRUCTURED-LOCATION;VALUE=URI;X-ADDRESS=Estavayer-le-Lac\, Estavaye
 r-le-Lac\, Suisse;X-APPLE-RADIUS=100;X-TITLE=L'Azimut:geo:0,0
END:VEVENT
BEGIN:VTIMEZONE
TZID:Europe/Zurich
X-LIC-LOCATION:Europe/Zurich
BEGIN:DAYLIGHT
DTSTART:20250330T030000
TZOFFSETFROM:+0100
TZOFFSETTO:+0200
TZNAME:CEST
END:DAYLIGHT
END:VTIMEZONE
END:VCALENDAR