BEGIN:VCALENDAR
VERSION:2.0
PRODID:-//wp-events-plugin.com//7.2.3.1//EN
TZID:Europe/Zurich
X-WR-TIMEZONE:Europe/Zurich
BEGIN:VEVENT
UID:181@leoniecachelin.com
DTSTART;TZID=Europe/Zurich:20250426T200000
DTEND;TZID=Europe/Zurich:20250426T213000
DTSTAMP:20250131T171112Z
URL:https://leoniecachelin.com/agenda/jeunesses-entrelacees-ensemble-diaph
 ane/
SUMMARY:Jeunesses entrelacées - Ensemble Diaphane
DESCRIPTION:L’Ensemble Diaphane a l’honneur d’être l’un des ensemb
 les invités par le Montreux choral Festival pour sa soirée exceptionnell
 e du 26 avril 2025 !\n\nDiaphane aura le plaisir de présenter des extrait
 s de son programme Jeunesses entrelacées.\n\n« Jeunesses entrelacées e
 st un programme entièrement a cappella à voix égales où l’Ensemble D
 iaphane souhaite croiser des pièces adressées à la jeunesse par leurs t
 extes et leurs formes.\nIl s’adresse certes aux jeunes\, mais il touche 
 également le monde des adultes et éveille l’enfant tapi en chacun de n
 ous. Les grands seront sensibles à la portée poétique\, symbolique et d
 ramatique des textes dont les différents niveaux de lecture sont admirabl
 ement mis en musique par les compositeur.trice.s de ce programme.\n\nLe cy
 cle Naissances de P. Burgan résonne dans notre ensemble. Qu’évoque le 
 mot « naissance » pour l’Ensemble Diaphane ? Rencontre nouvelle\, espo
 ir pour l’être né et pour soi\, élan vital qui nous anime. Ces idées
  résonnent très justement avec les pièces que nous avons choisies et qu
 e nous avons à cœur de partager avec un public en quête de renouveau et
  de partage. »\n\nAu programme : Poulenc\, Charrière\, Burgan\, Beffa\
 , Duruflé-Chevalier\, Ibert…
ATTACH;FMTTYPE=image/jpeg:https://leoniecachelin.com/wp-content/uploads/20
 24/06/Capture-decran-2024-06-06-a-13.07.53.png
CATEGORIES:Chœur et ensemble
LOCATION:Salle del Castillo\,  Place du Marché 1\, Vevey\, Suisse
X-APPLE-STRUCTURED-LOCATION;VALUE=URI;X-ADDRESS= Place du Marché 1\, Vevey
 \, Suisse;X-APPLE-RADIUS=100;X-TITLE=Salle del Castillo:geo:0,0
END:VEVENT
BEGIN:VTIMEZONE
TZID:Europe/Zurich
X-LIC-LOCATION:Europe/Zurich
BEGIN:DAYLIGHT
DTSTART:20250330T030000
TZOFFSETFROM:+0100
TZOFFSETTO:+0200
TZNAME:CEST
END:DAYLIGHT
END:VTIMEZONE
END:VCALENDAR