BEGIN:VCALENDAR
VERSION:2.0
PRODID:-//wp-events-plugin.com//7.2.3.1//EN
TZID:Europe/Zurich
X-WR-TIMEZONE:Europe/Zurich
BEGIN:VEVENT
UID:205@leoniecachelin.com
DTSTART;TZID=Europe/Zurich;VALUE=DATE:20260128
DTEND;TZID=Europe/Zurich;VALUE=DATE:20260130
DTSTAMP:20260109T234921Z
URL:https://leoniecachelin.com/agenda/la-folle-journee-evl-mezzo-solo/
SUMMARY:La Folle Journée - EVL - Mezzo solo
DESCRIPTION:\nLa Folle Journée\n\n\n\n\n\n\n\nEnsemble Vocal de Lausanne\n
 Marine Margot SOPRANO\nLéonie Cachelin MEZZO-SOPRANO \nFlorent Lattuga P
 IANO\nCéline Latour Monnier PIANO\nPierre-Fabien Roubaty DIRECTION \n\n\
 n\n\n\n\n\n\n\nDepuis 1995\, La Folle Journée enchante un public nombreux
  et passionné avec son festival de musique classique à Nantes et dans sa
  région. Considéré comme l’un des plus grands festivals de musique cl
 assique en France\, il est reconnu pour son audace\, sa générosité et s
 a programmation exceptionnelle.\nEn 2026\, la Folle Journée nous fait voy
 ager à travers le monde par le biais des grands fleuves qui irriguent les
  continents\, de la Russie aux Amériques\, de l’Inde à l’Europe et 
 à l’Afrique. Les fleuves ont joué en effet un rôle central dans le d
 éveloppement culturel et musical des régions qu’ils traversent\, laiss
 ant notamment une empreinte forte chez les musiciens classiques auxquels i
 ls ont inspiré\, directement ou indirectement\, de nombreuses oeuvres.\n\
 nPROGRAMME\n\nJ.G. Rheinberger Kyrie de la messe in Es « Cantus Missae »
 \n\nF. Mendelssohn Lass\, o Herr\, mich Hülfe finden op.96\n\nF. Mendelss
 ohn Hör mein Bitten\, WoO15\n\nR. Schumann Am Bodensee (extrait de l’op
 .59)\n\nC. Schumann Gondoliera (extrait de Drei gemischte Chöre)\n\nJ. Br
 ahms Schicksalslied\n\nJ.G. Rheinberger Abendlied op.69\n\n\n\nCité des C
 ongrès mercredi 28 janv.  18:30\nNantes\nCité des Congrès jeudi 29 jan
 v. 21:45\nNantes\n\nhttps://www.follejournee.fr/fr/page/tous-les-concerts?
 date=2026-01-28&amp\;event=692f1228690cc874e52e2c5a
ATTACH;FMTTYPE=image/jpeg:https://leoniecachelin.com/wp-content/uploads/20
 26/01/Capture-decran-2026-01-09-a-23.39.52.png
CATEGORIES:Chœur et ensemble,Mezzo solo
LOCATION:Nantes\, \, France
X-APPLE-STRUCTURED-LOCATION;VALUE=URI;X-ADDRESS=\, France;X-APPLE-RADIUS=10
 0;X-TITLE=Nantes:geo:0,0
END:VEVENT
BEGIN:VTIMEZONE
TZID:Europe/Zurich
X-LIC-LOCATION:Europe/Zurich
BEGIN:STANDARD
DTSTART:20251026T020000
TZOFFSETFROM:+0200
TZOFFSETTO:+0100
TZNAME:CET
END:STANDARD
END:VTIMEZONE
END:VCALENDAR