BEGIN:VCALENDAR
VERSION:2.0
PRODID:-//wp-events-plugin.com//7.2.3.1//EN
TZID:Europe/Zurich
X-WR-TIMEZONE:Europe/Zurich
BEGIN:VEVENT
UID:210@leoniecachelin.com
DTSTART;TZID=Europe/Zurich:20260328T180000
DTEND;TZID=Europe/Zurich:20260328T180000
DTSTAMP:20260215T230935Z
URL:https://leoniecachelin.com/agenda/le-prophete-evl-ocg-dir-m-leroy-cala
 tayud-2/
SUMMARY:Le Prophète - EVL & OCG - Dir. M. Leroy-Calatayud
DESCRIPTION:\n\nG. Meyerbeer - Le Prophète\nLe Prophète est inspiré de l
 a vie de Jean de Leyde\, chef protestant des anabaptistes et auto-proclam
 é « roi de Sion ». L’action se déroule au XVIe siècle à Dordrecht 
 en Hollande et à Münster en Allemagne. Cet opéra en cinq actes rencontr
 e un énorme succès et porte la gloire de Meyerbeer à son apogée. En pr
 emière mondiale\, la mezzo-soprano Marina Viotti et le ténor John Osborn
  marieront leurs talents dans l’interprétation des rôles-titres. Aprè
 s le succès rencontré avec Roméo et Juliette donné en 2023\, l’EVL r
 enoue avec le grand opéra en version de concert.\n\n\n\n\n\nMarina Viotti
  MEZZO-SOPRANO\nJohn Osborn TENOR\nOrchestre de Chambre de Genève\nMarc L
 eroy-Calatayud DIRECTION\n\n
ATTACH;FMTTYPE=image/jpeg:https://leoniecachelin.com/wp-content/uploads/20
 25/08/Capture-decran-2026-01-09-a-23.47.38.png
CATEGORIES:Chœur et ensemble
LOCATION:Théâtre des Champs-Elysées\, Paris\, France
X-APPLE-STRUCTURED-LOCATION;VALUE=URI;X-ADDRESS=Paris\, France;X-APPLE-RADI
 US=100;X-TITLE=Théâtre des Champs-Elysées:geo:0,0
END:VEVENT
BEGIN:VTIMEZONE
TZID:Europe/Zurich
X-LIC-LOCATION:Europe/Zurich
BEGIN:STANDARD
DTSTART:20251026T020000
TZOFFSETFROM:+0200
TZOFFSETTO:+0100
TZNAME:CET
END:STANDARD
END:VTIMEZONE
END:VCALENDAR