BEGIN:VCALENDAR
VERSION:2.0
PRODID:-//wp-events-plugin.com//7.2.3.1//EN
TZID:Europe/Zurich
X-WR-TIMEZONE:Europe/Zurich
BEGIN:VEVENT
UID:204@leoniecachelin.com
DTSTART;TZID=Europe/Zurich:20251214T173000
DTEND;TZID=Europe/Zurich:20251214T173000
DTSTAMP:20251203T223037Z
URL:https://leoniecachelin.com/agenda/les-ondes-peace-on-earth-dir-l-cache
 lin-2/
SUMMARY:Les Ondes - Peace on Earth - Dir. L. Cachelin
DESCRIPTION:PEACE ON EARTH\nLes Ondes\nDirection : Léonie Cachelin\nOrgue 
 : Margot Boitard\nPour son premier programme de Noël\, Les Ondes emmène 
 les publics de Chêne-Bougeries et de Bernex sur les rivages sonores de la
  blanche Albion et de sa riche tradition musicale inspirée par la Nativit
 é. Trouvant ses origines dans des danses médiévales\, le répertoire de
 s Carols se forme progressivement depuis lors\, à cheval entre les sphèr
 es populaires et sacrées. La réforme protestante et l’introduction du 
 chant en langue vernaculaire à l’église donnent un premier élan au ge
 nre\, mais\, en Angleterre\, c’est véritablement sous l’ère victorie
 nne à la fin du XIXe siècle – et le mouvement du retour à l’ancien 
 – que les Christmas Carols fleurissent et infusent la production musical
 e chorale. Ce répertoire est un pilier capital du répertoire de chaque c
 hœur de cathédrale\, abbaye et collège britannique\, connus et reconnus
  pour leur excellence !\n\nLe programme\, entrecoupé de carols plus tradi
 tionnels\, se déploie tout au long des XIXe et XXe siècles\, tantôt a c
 apella\, tantôt accompagné par l’orgue tenu par Margot Boitard. \n\nU
 ne place particulière est donnée au très beau Peace on earth de la comp
 ositrice américaine Amy Beach \; son œuvre est un incontournable des pro
 grammes de Noël outre-Manche et son message n’a jamais été plus néce
 ssaire.\nNote de programme : G. Rauber\nProgramme\nBrian Kelly - A Chris
 tmas dance\nArthur Sullivan – (Carol) It came upon the midnight clear (1
 870)\nAmy Beach – Peace on Earth (1897) – avec orgue\nCharles Villiers
  Stanford – Beati quorum via (1905)\nAmy Beach – Peace I leave with yo
 u (1891)\nArr. Kristina Arakelyan - Prelude on Carol of the Bells\nMartin
  Shaw – (Carol) Coventry Carol (1920)\nGustav Holst – (Carol) In the b
 leak midwinter (1904)\nJohn Tavener – The Lamb (1982)\nHerbert Howells 
 – A spotless rose (1919)\nCharles Wood – Hail\, gladdening light (1912
 )\nEdgar Pettman – (Carol) Gabriel’s Message (1892)\nRalph Vaughan Wil
 liams - Wassail song (1913)\nBenjamin Britten – A Hymn to the Virgin (1
 930)\nRalph Vaughan Williams – Fantasia on Christmas Carols (1912) – a
 vec orgue\nHerbert Howells – A spotless rose (1919)\n
ATTACH;FMTTYPE=image/jpeg:https://leoniecachelin.com/wp-content/uploads/20
 25/11/Visuel_insta_202511-1-e1764156685529.jpg
CATEGORIES:Direction de choeur
LOCATION:Eglise de Bernex\, Eglise de Bernex\, Genève \, Suisse
X-APPLE-STRUCTURED-LOCATION;VALUE=URI;X-ADDRESS=Eglise de Bernex\, Genève 
 \, Suisse;X-APPLE-RADIUS=100;X-TITLE=Eglise de Bernex:geo:0,0
END:VEVENT
BEGIN:VTIMEZONE
TZID:Europe/Zurich
X-LIC-LOCATION:Europe/Zurich
BEGIN:STANDARD
DTSTART:20251026T020000
TZOFFSETFROM:+0200
TZOFFSETTO:+0100
TZNAME:CET
END:STANDARD
END:VTIMEZONE
END:VCALENDAR