BEGIN:VCALENDAR
VERSION:2.0
PRODID:-//wp-events-plugin.com//7.2.3.1//EN
TZID:Europe/Zurich
X-WR-TIMEZONE:Europe/Zurich
BEGIN:VEVENT
UID:203@leoniecachelin.com
DTSTART;TZID=Europe/Zurich:20251207T170000
DTEND;TZID=Europe/Zurich:20251207T170000
DTSTAMP:20251203T222934Z
URL:https://leoniecachelin.com/agenda/les-ondes-peace-on-earth-dir-l-cache
 lin/
SUMMARY:Les Ondes - Peace on Earth - Dir. L. Cachelin
DESCRIPTION:PEACE ON EARTH\nLes Ondes\nDirection : Léonie Cachelin\nOrgue 
 : Margot Boitard\nPour son premier programme de Noël\, Les Ondes emmène 
 les publics de Chêne-Bougeries et de Bernex sur les rivages sonores de la
  blanche Albion et de sa riche tradition musicale inspirée par la Nativit
 é. Trouvant ses origines dans des danses médiévales\, le répertoire de
 s Carols se forme progressivement depuis lors\, à cheval entre les sphèr
 es populaires et sacrées. La réforme protestante et l’introduction du 
 chant en langue vernaculaire à l’église donnent un premier élan au ge
 nre\, mais\, en Angleterre\, c’est véritablement sous l’ère victorie
 nne à la fin du XIXe siècle – et le mouvement du retour à l’ancien 
 – que les Christmas Carols fleurissent et infusent la production musical
 e chorale. Ce répertoire est un pilier capital du répertoire de chaque c
 hœur de cathédrale\, abbaye et collège britannique\, connus et reconnus
  pour leur excellence !\n\nLe programme\, entrecoupé de carols plus tradi
 tionnels\, se déploie tout au long du XXe siècle\, tantôt a capella\, t
 antôt accompagné par l’orgue tenu par Margot Boitard. \n\nUne place p
 articulière est donnée au très beau Peace on earth de la compositrice a
 méricaine Amy Beach \; son œuvre est un incontournable des programmes de
  Noël outre-Manche et son message n’a jamais été plus nécessaire.\nN
 ote de programme : G. Rauber\nProgramme\nBrian Kelly - A Christmas dance
 \nArthur Sullivan – (Carol) It came upon the midnight clear (1870)\nAmy 
 Beach – Peace on Earth (1897) – avec orgue\nCharles Villiers Stanford 
 – Beati quorum via (1905)\nAmy Beach – Peace I leave with you (1891)\n
 Arr. Kristina Arakelyan - Prelude on Carol of the Bells\nMartin Shaw – 
 (Carol) Coventry Carol (1920)\nGustav Holst – (Carol) In the bleak midwi
 nter (1904)\nJohn Tavener – The Lamb (1982)\nHerbert Howells – A spotl
 ess rose (1919)\nCharles Wood – Hail\, gladdening light (1912)\nEdgar Pe
 ttman – (Carol) Gabriel’s Message (1892)\nRalph Vaughan Williams - Wa
 ssail song (1913)\nBenjamin Britten – A Hymn to the Virgin (1930)\nRalph
  Vaughan Williams – Fantasia on Christmas Carols (1912) – avec orgue\n
 Herbert Howells – A spotless rose (1919)\n
ATTACH;FMTTYPE=image/jpeg:https://leoniecachelin.com/wp-content/uploads/20
 25/11/Visuel_insta_202511-1-e1764156685529.jpg
CATEGORIES:Direction de choeur
LOCATION:Temple de Chêne-Bougeries (GE)\, 151 route de Chêne\, Genève\, 
 Suisse
X-APPLE-STRUCTURED-LOCATION;VALUE=URI;X-ADDRESS=151 route de Chêne\, Genè
 ve\, Suisse;X-APPLE-RADIUS=100;X-TITLE=Temple de Chêne-Bougeries (GE):geo
 :0,0
END:VEVENT
BEGIN:VTIMEZONE
TZID:Europe/Zurich
X-LIC-LOCATION:Europe/Zurich
BEGIN:STANDARD
DTSTART:20251026T020000
TZOFFSETFROM:+0200
TZOFFSETTO:+0100
TZNAME:CET
END:STANDARD
END:VTIMEZONE
END:VCALENDAR