BEGIN:VCALENDAR
VERSION:2.0
PRODID:-//wp-events-plugin.com//7.2.3.1//EN
TZID:Europe/Zurich
X-WR-TIMEZONE:Europe/Zurich
BEGIN:VEVENT
UID:176@leoniecachelin.com
DTSTART;TZID=Europe/Zurich:20251019T190000
DTEND;TZID=Europe/Zurich:20251019T203000
DTSTAMP:20250131T165436Z
URL:https://leoniecachelin.com/agenda/mein-leben-hat-sein-geheimnis-figure
 -humaine-kammerchor-2/
SUMMARY:Mein Leben hat sein Geheimnis - figure humaine kammerchor
DESCRIPTION:Mein Leben hat sein Geheimnis\nKonzert zum Bizet-Jahr\nInterpre
 ten:\nfigure humaine kammerchor\nKerstin Mörk\, Klavier\nDenis Rouger\, L
 eitung\n\nGeorges Bizet ist hauptsächlich für seine Oper „Carmen“ be
 rühmt. Zum Jubiläumsjahr des Komponisten lädt der figure humaine kammer
 chor ein\, auch einige seiner „Mélodien“ zu entdecken. Denis Rouger h
 at sie anlässlich dieses Ereignisses für Chor bearbeitet. Eingebettet we
 rden sie in eine teilweise impressionistische\, geheimnisvolle\, aber auch
  ungestüm leidenschaftliche Welt aus weiteren Bearbeitungen von Komponist
 en wie Gounod\, Saint-Saëns\, Cornelius\, Fanny Hensel und Werken von Wil
 helm Berger oder dem hierzulande eher unbekannten Reynaldo Hahn.
ATTACH;FMTTYPE=image/jpeg:https://leoniecachelin.com/wp-content/uploads/20
 23/05/IMG_0301.jpeg
CATEGORIES:Chœur et ensemble
END:VEVENT
BEGIN:VTIMEZONE
TZID:Europe/Zurich
X-LIC-LOCATION:Europe/Zurich
BEGIN:DAYLIGHT
DTSTART:20250330T030000
TZOFFSETFROM:+0100
TZOFFSETTO:+0200
TZNAME:CEST
END:DAYLIGHT
END:VTIMEZONE
END:VCALENDAR