BEGIN:VCALENDAR
VERSION:2.0
PRODID:-//wp-events-plugin.com//7.2.3.1//EN
TZID:Europe/Zurich
X-WR-TIMEZONE:Europe/Zurich
BEGIN:VEVENT
UID:180@leoniecachelin.com
DTSTART;TZID=Europe/Zurich:20250418T170000
DTEND;TZID=Europe/Zurich:20250418T190000
DTSTAMP:20250131T170658Z
URL:https://leoniecachelin.com/agenda/messe-en-si-j-s-bach-ensemble-vocal-
 buissonnier-preparation-du-choeur/
SUMMARY:Messe en si\, J-S. Bach - Ensemble vocal Buissonnier - préparation
  du choeur
DESCRIPTION:Messe en si mineur BWV 232 – J-S. Bach \nEnsemble Vocal Buiss
 onnier – Préparation : Léonie Cachelin\n\nOrchestre Baroque Buissonnie
 r\n\nSolistes du choeur\n\nInês Flores-Brasil\, Sarah Matousek\, sopranos
 \n\nMarie Hamard\, mezzo-soprano\n\nLudmila Schwartzwalder\, Stéphanie Gu
 érin\, altos\n\nBaptiste Jondeau\, ténor\n\nJoshua Morris\, Vincent Casa
 grande\, basses\nDirection : Vincent Thévenaz\nDans le cadre des Concerts
  de la Cathédrale Saint-Pierre – https://concerts-cathedrale.ch/?p=8757
ATTACH;FMTTYPE=image/jpeg:https://leoniecachelin.com/wp-content/uploads/20
 24/01/IMG_0408.jpeg
CATEGORIES:Direction de choeur
LOCATION:Cathédrale Saint-Pierre\, Genève \, Genève\, Suisse
X-APPLE-STRUCTURED-LOCATION;VALUE=URI;X-ADDRESS=Genève \, Genève\, Suisse
 ;X-APPLE-RADIUS=100;X-TITLE=Cathédrale Saint-Pierre:geo:0,0
END:VEVENT
BEGIN:VTIMEZONE
TZID:Europe/Zurich
X-LIC-LOCATION:Europe/Zurich
BEGIN:DAYLIGHT
DTSTART:20250330T030000
TZOFFSETFROM:+0100
TZOFFSETTO:+0200
TZNAME:CEST
END:DAYLIGHT
END:VTIMEZONE
END:VCALENDAR