BEGIN:VCALENDAR
VERSION:2.0
PRODID:-//wp-events-plugin.com//7.2.3.1//EN
TZID:Europe/Zurich
X-WR-TIMEZONE:Europe/Zurich
BEGIN:VEVENT
UID:195@leoniecachelin.com
DTSTART;TZID=Europe/Zurich:20250928T170000
DTEND;TZID=Europe/Zurich:20250928T183000
DTSTAMP:20250909T081408Z
URL:https://leoniecachelin.com/agenda/messe-n-5-d-678-f-schubert-mezzo-sol
 o/
SUMMARY:Messe n° 5\, D 678\, F. Schubert - mezzo solo
DESCRIPTION:Chorale Concinimus\nChoeur d'Oratorio\nLa Lyre\nEnsemble instru
 mental\nGyslaine Waelchi Bellucci\, soprano\nLéonie Cachelin\, mezzo\nJon
 athan Spicher\, ténor\nStephan Imboden\, basse\nDirection : Sergueï Tche
 rkassov\nSchicksalslied (Chant du Destin)\, de Johannes Brahms\nChristus\,
  oratorio inachevé\, de Felix Mendelssohn\nMesse n° 5\, D 678\, de Franz
  Schubert
ATTACH;FMTTYPE=image/jpeg:https://leoniecachelin.com/wp-content/uploads/20
 24/01/DSC01037-scaled.jpg
CATEGORIES:Mezzo solo
LOCATION:Temple Saint-Etienne\, Moudon\, Moudon\, Suisse
X-APPLE-STRUCTURED-LOCATION;VALUE=URI;X-ADDRESS=Moudon\, Moudon\, Suisse;X-
 APPLE-RADIUS=100;X-TITLE=Temple Saint-Etienne:geo:0,0
END:VEVENT
BEGIN:VTIMEZONE
TZID:Europe/Zurich
X-LIC-LOCATION:Europe/Zurich
BEGIN:DAYLIGHT
DTSTART:20250330T030000
TZOFFSETFROM:+0100
TZOFFSETTO:+0200
TZNAME:CEST
END:DAYLIGHT
END:VTIMEZONE
END:VCALENDAR