BEGIN:VCALENDAR
VERSION:2.0
PRODID:-//wp-events-plugin.com//7.2.3.1//EN
TZID:Europe/Zurich
X-WR-TIMEZONE:Europe/Zurich
BEGIN:VEVENT
UID:172@leoniecachelin.com
DTSTART;TZID=Europe/Zurich:20250313T201500
DTEND;TZID=Europe/Zurich:20250313T211500
DTSTAMP:20241216T140559Z
URL:https://leoniecachelin.com/agenda/miroir-du-nord-evl/
SUMMARY:Miroir du Nord - EVL
DESCRIPTION:\n\nMIROIR DU NORD\nLe nord de l’Europe évoque pour beaucoup
  les grands espaces et la nature sauvage. Avec ses longs jours d’été e
 t ses longues nuits d’hiver\, le nord est aussi un lieu de contrastes\, 
 de clair-obscur où la présence de l’un donne de la vie à l’autre\, 
 inséparables - le sacré et le profane\, le ciel et la terre\, la lune et
  le soleil.\n\nDualités ou effet de miroir ? Ce programme intimiste et ha
 utement émouvant va s’aventurer vers la ligne partageant ces éléments
  indissociables.\n\nUn projet en collaboration avec les élèves du Gymnas
 e Provence (Lausanne).\nVisuel : Samuel Junet (Gymnase Provence)\n\nConcer
 t soutenu par la Fondation du Centre Patronal\n\n&nbsp\;\n\n\n\n&nbsp\;\n\
 nPROGRAMME\n\nO. Gjeilo - Dark Night of the Soul*\nA. Pärt - Alleluia-Tro
 pus\nL. Norman - Jordens oro viker\nH. Alfven - Aftonen\nA. Pärt - Spiege
 l im Spiegel (instrumental)                  \nE. Grieg 
 - Ave Maris Stella\nC. Nielsen - Benedictus Dominus op.55 n°3\nA. Pärt -
  The Deer’s Cry ou Most Holly of God\nO. Gjeilo - Sacred Heart (Ubi Cari
 tas III)*\nO. Gjeilo - Luminous Night of the Soul*\n\n*EVL et élèves du 
 Gymnase Provence\n\n\n\n\n\n\n&nbsp\;\n\nEnsemble Vocal de Lausanne\n\nEle
 ̀ves du Gymnase Provence\nPiano\, quatuor à cordes\n\nCatherine Michel s
 oprano\nFélix Froschhammer violon\nFlorent Lattuga piano\n\nPierre-Fabien
  Roubaty direction\n\n\n
ATTACH;FMTTYPE=image/jpeg:https://leoniecachelin.com/wp-content/uploads/20
 22/11/FD466ACA-6658-4F8C-9F7A-3201AB29123D.jpeg
CATEGORIES:Chœur et ensemble
LOCATION:Église Saint-François\, Lausanne\, Lausanne\, Suisse
X-APPLE-STRUCTURED-LOCATION;VALUE=URI;X-ADDRESS=Lausanne\, Lausanne\, Suiss
 e;X-APPLE-RADIUS=100;X-TITLE=Église Saint-François:geo:0,0
END:VEVENT
BEGIN:VTIMEZONE
TZID:Europe/Zurich
X-LIC-LOCATION:Europe/Zurich
BEGIN:STANDARD
DTSTART:20241027T020000
TZOFFSETFROM:+0200
TZOFFSETTO:+0100
TZNAME:CET
END:STANDARD
END:VTIMEZONE
END:VCALENDAR