BEGIN:VCALENDAR
VERSION:2.0
PRODID:-//wp-events-plugin.com//7.2.3.1//EN
TZID:Europe/Zurich
X-WR-TIMEZONE:Europe/Zurich
BEGIN:VEVENT
UID:182@leoniecachelin.com
DTSTART;TZID=Europe/Zurich:20250426T200000
DTEND;TZID=Europe/Zurich:20250426T213000
DTSTAMP:20250131T171416Z
URL:https://leoniecachelin.com/agenda/montreux-choral-festival-les-jeunvoi
 x/
SUMMARY:Montreux choral Festival - Les Jeun'voix
DESCRIPTION:Informations à venir !
ATTACH;FMTTYPE=image/jpeg:https://leoniecachelin.com/wp-content/uploads/20
 25/01/Capture-decran-2025-01-31-a-18.13.44.png
CATEGORIES:Chœur et ensemble
LOCATION:Salle del Castillo\,  Place du Marché 1\, Vevey\, Suisse
X-APPLE-STRUCTURED-LOCATION;VALUE=URI;X-ADDRESS= Place du Marché 1\, Vevey
 \, Suisse;X-APPLE-RADIUS=100;X-TITLE=Salle del Castillo:geo:0,0
END:VEVENT
BEGIN:VTIMEZONE
TZID:Europe/Zurich
X-LIC-LOCATION:Europe/Zurich
BEGIN:DAYLIGHT
DTSTART:20250330T030000
TZOFFSETFROM:+0100
TZOFFSETTO:+0200
TZNAME:CEST
END:DAYLIGHT
END:VTIMEZONE
END:VCALENDAR