BEGIN:VCALENDAR
VERSION:2.0
PRODID:-//wp-events-plugin.com//7.2.3.1//EN
TZID:Europe/Zurich
X-WR-TIMEZONE:Europe/Zurich
BEGIN:VEVENT
UID:119@leoniecachelin.com
DTSTART;TZID=Europe/Zurich:20231217T173000
DTEND;TZID=Europe/Zurich:20231217T173000
DTSTAMP:20231102T121416Z
URL:https://leoniecachelin.com/agenda/mysterium-ensemble-vocal-buissonnier
 -dir-leonie-cachelin-2/
SUMMARY:O magnum mysterium - Ensemble Vocal Buissonnier / Dir. : Léonie Ca
 chelin
DESCRIPTION:Mysterium\nEnsemble Vocal Buissonnier\nDirection : Léonie Cach
 elin\nOrgue : Margot Boitard\n\nŒuvres sacrées sur le thème de Noël (J
 -C. Bach\, J. Pachelbel\, S. Rachmaninoff\, F. Poulenc\, O. Gjeilo)
ATTACH;FMTTYPE=image/jpeg:https://leoniecachelin.com/wp-content/uploads/20
 20/03/DSC6277.jpg
CATEGORIES:Direction de choeur
LOCATION:Église de Bernex\, Bernex\, Genève\, Suisse
X-APPLE-STRUCTURED-LOCATION;VALUE=URI;X-ADDRESS=Bernex\, Genève\, Suisse;X
 -APPLE-RADIUS=100;X-TITLE=Église de Bernex:geo:0,0
END:VEVENT
BEGIN:VTIMEZONE
TZID:Europe/Zurich
X-LIC-LOCATION:Europe/Zurich
BEGIN:STANDARD
DTSTART:20231029T020000
TZOFFSETFROM:+0200
TZOFFSETTO:+0100
TZNAME:CET
END:STANDARD
END:VTIMEZONE
END:VCALENDAR