BEGIN:VCALENDAR
VERSION:2.0
PRODID:-//wp-events-plugin.com//7.2.3.1//EN
TZID:Europe/Zurich
X-WR-TIMEZONE:Europe/Zurich
BEGIN:VEVENT
UID:165@leoniecachelin.com
DTSTART;TZID=Europe/Zurich:20250101T170000
DTEND;TZID=Europe/Zurich:20250101T181500
DTSTAMP:20241211T133646Z
URL:https://leoniecachelin.com/agenda/orchestre-et-ensemble-vocal-buissonn
 ier-concert-de-lan-preparation-du-choeur/
SUMMARY:Orchestre et Ensemble Vocal Buissonnier - concert de l'An - prépar
 ation du choeur
DESCRIPTION:29 octobre 2005 : voici la date du premier concert de l’ense
 mble de jeunes musiciens qui allait peu après se constituer en associatio
 n et prendre le nom d’Orchestre Buissonnier. Depuis\, près de 20 ans se
  sont écoulés et la ferveur demeure comme au premier jour : près de 25
 0 concerts abordant des territoires aussi variés que les répertoires sym
 phoniques\, baroques\, chorals\, de la musique de chambre ou encore des sp
 ectacles jeune public\, le tout avec la participation de plus de 500 jeune
 s musiciennes et musiciens\, voilà le bilan réjouissant d’un ensemble 
 qui a su trouver sa place sur la scène régionale – et même au-delà 
 !\n\nLes couleurs de l’Orchestre Buissonnier sont portées très haut pa
 r ses membres qui intègrent régulièrement les plus grands orchestres de
  Suisse et d’Europe – Orchestre de la Suisse Romande\, Opernhaus de Z
 ürich\, et même les prestigieux Berliner Philharmoniker.  Certains pour
 suivent leur carrière à l’autre bout du monde au Japon ou au Brésil. 
 Les chanteurs de l’Ensemble vocal ont foulé les scènes des grands opé
 ras ou collaboré avec des chœurs de haut vol.\n\nDe la même manière\, 
 les chefs invités à diriger nos ensembles sont bien souvent à l’aube 
 d’une riche carrière\, à l’image de Jean-Claude Picard (Scottish Bal
 let\, professeur de direction d’orchestre au Conservatoire de Montréal)
 \, Pierre Bleuse (Odense Symphony Orchestra\, Ensemble intercontemporain 
 à Paris)\, Michele Spotti (Orchestre Philharmonique de Marseille-Opéra) 
 ou encore Flavien Boy (Ensemble Orchestral de Dijon).\n\nL’année 2025 m
 arque donc les vingt ans de l’Orchestre Buissonnieret verra la réalisat
 ion de trois grands projets pour mettre en valeur toutes les forces de not
 re association et mêler anciens et nouveaux musiciens : l’année commen
 cera sur les chapeaux de roues avec le traditionnel concert du Nouvel-An\,
  réunissant l’orchestre et l’ensemble vocal pour cette édition spéc
 iale !\nCONCERT DU NOUVEL AN\nOrchestre Buissonnier\n\nEnsemble Vocal Buis
 sonnier\n\nDirection : Marc Leroy-Calatayud (Assistanat : Judith Baubérot
 )\n\nPréparation du choeur : Léonie Cachelin\n\nAu programme : choeurs e
 t intermezzi extraits d’opéras italiens (Verdi\, Puccini…) et de d’
 opérette française (Offenbach)
ATTACH;FMTTYPE=image/jpeg:https://leoniecachelin.com/wp-content/uploads/20
 24/01/DSC00708-scaled.jpg
CATEGORIES:Direction de choeur
LOCATION:Salle Jean-Jacques Gautier\, Chêne-Bougeries \, Genève \, Suisse
X-APPLE-STRUCTURED-LOCATION;VALUE=URI;X-ADDRESS=Chêne-Bougeries \, Genève
  \, Suisse;X-APPLE-RADIUS=100;X-TITLE=Salle Jean-Jacques Gautier:geo:0,0
END:VEVENT
BEGIN:VTIMEZONE
TZID:Europe/Zurich
X-LIC-LOCATION:Europe/Zurich
BEGIN:STANDARD
DTSTART:20241027T020000
TZOFFSETFROM:+0200
TZOFFSETTO:+0100
TZNAME:CET
END:STANDARD
END:VTIMEZONE
END:VCALENDAR