BEGIN:VCALENDAR
VERSION:2.0
PRODID:-//wp-events-plugin.com//7.2.3.1//EN
TZID:Europe/Zurich
X-WR-TIMEZONE:Europe/Zurich
BEGIN:VEVENT
UID:161@leoniecachelin.com
DTSTART;TZID=Europe/Zurich:20241129T193000
DTEND;TZID=Europe/Zurich:20241129T193000
DTSTAMP:20241022T090151Z
URL:https://leoniecachelin.com/agenda/paysages-de-noel-evl-dir-p-f-roubaty
 /
SUMMARY:Paysages de Noël - EVL\, dir. P-F. Roubaty
DESCRIPTION:PAYSAGES DE NOËL\nEnsemble Vocal de Lausanne - Dir. P-F. Rouba
 ty\n\nL’hiver venu\, quand la nuit prend le pas sur le jour\, familles e
 t amis se réunissent pour partager des moments chaleureux. Pour les chré
 tiens\, cette période traditionnelle de l’Avent est l’occasion de se 
 préparer\, en lumière\, à la célébration de Noël.\nA travers le mond
 e\, de nombreux compositeurs ont écrit des œuvres pour cette période fe
 stive. L’EVL vous invite à un concert exceptionnel\, offrant un program
 me à la fois chaleureux et populaire. Vous découvrirez\, pour votre plus
  grand bonheur\, un mélange harmonieux de raretés et de mélodies bien c
 onnues. Et qui sait\, votre participation pourrait même être sollicitée
  durant la soirée !\n\n\n\nT. Tallis – O Nata Lux de lumine\nF. Mendels
 sohn – Lasset uns frohlocken\n\nD. Mocnik – Geburts-Nacht\n\nF.X. Grub
 er/ E. Mandyczewski – Stille Nacht \n\nM. Praetorius – In dulci jubil
 o\nF. Poulenc – O Magnum mysterium\nF. Poulenc – Quem vidistis pastore
 s dicite\n\nH. Howells – A spotless Rose \nF. Poulenc – Videntes stel
 lam\n\nF. Poulenc – Hodie Christus natus est\n\nT. L. da Victoria – O 
 Magnum mysterium\nM. Lauridsen – O Magnum mysterium\n\nF. Mendelssohn 
 – Frohlocket\, ihr Völker auf Erden\n\nJ.P. Sweelinck – Hodie Christu
 s natus est\n\nM. Praetorius – Es ist ein Ros entsprungen\n\nF. A. Gevae
 rt – Le sommeil de l’enfant Jésus\n\nM. Reger – Weihnachtslied\n\nP
 . Kaelin – Adeste Fideles \n\n
ATTACH;FMTTYPE=image/jpeg:https://leoniecachelin.com/wp-content/uploads/20
 22/11/FD466ACA-6658-4F8C-9F7A-3201AB29123D.jpeg
CATEGORIES:Chœur et ensemble
LOCATION:Église Saint-Laurent (VD)\, Lausanne \, Lausanne \, Suisse
X-APPLE-STRUCTURED-LOCATION;VALUE=URI;X-ADDRESS=Lausanne \, Lausanne \, Sui
 sse;X-APPLE-RADIUS=100;X-TITLE=Église Saint-Laurent (VD):geo:0,0
END:VEVENT
BEGIN:VTIMEZONE
TZID:Europe/Zurich
X-LIC-LOCATION:Europe/Zurich
BEGIN:STANDARD
DTSTART:20241027T020000
TZOFFSETFROM:+0200
TZOFFSETTO:+0100
TZNAME:CET
END:STANDARD
END:VTIMEZONE
END:VCALENDAR