BEGIN:VCALENDAR
VERSION:2.0
PRODID:-//wp-events-plugin.com//7.2.3.1//EN
TZID:Europe/Zurich
X-WR-TIMEZONE:Europe/Zurich
BEGIN:VEVENT
UID:199@leoniecachelin.com
DTSTART;TZID=Europe/Zurich:20251221T170000
DTEND;TZID=Europe/Zurich:20251221T170000
DTSTAMP:20260109T183337Z
URL:https://leoniecachelin.com/agenda/paysages-de-noel-evl-mezzo-solo/
SUMMARY:Paysages de Noël\, EVL - mezzo solo
DESCRIPTION:\nPaysages de Noël\n\n\n\n\n\n\n\n\n\n\n\n\n\nL’hiver venu\,
  quand la nuit prend le pas sur le jour\, familles et amis se réunissent 
 pour partager des moments chaleureux. Pour les chrétiens\, cette période
  traditionnelle de l’Avent est l’occasion de se préparer\, en lumièr
 e\, à la célébration de Noël. A travers le monde\, de nombreux composi
 teurs ont écrit des œuvres pour cette période festive.\nL’EVL propose
  un programme à la fois chaleureux et populaire dans lequel le public dé
 couvrira un mélange harmonieux de raretés et de mélodies bien connues. 
 Cette rêverie musicale mêle des antiennes de Noël émouvantes telles qu
 e O Magnum Mysterium et O Nata Lux\, revisitées par les maîtres de la Re
 naissance comme Victoria\, Praetorius et Tallis\, ainsi que par des compos
 iteurs du 20ème siècle tels que Britten ou Lauridsen. Les hymnes romanti
 ques de l’Avent de Mendelssohn et Reger apportent une touche lumineuse a
 vant d’interpréter avec le public de véritables tubes de Noël. L’EV
 L célèbre Noël à travers le temps pour le dernier dimanche de l’Aven
 t.\n\n\n\nPROGRAMME\nOeuvres de T. Tallis\, F. Mendelssohn\, D. Močnik\,\
 nF.X. Gruber\, M. Prætorius\, F. Poulenc\, H. Howells\,\nT.L. de Victoria
 \, M. Lauridsen\, J.P. Sweelinck\,\nF.A. Gevaert\, M. Reger et du réperto
 ire traditionnel.\n\n\n\n\n\n\n&nbsp\;\nLéonie Cachelin mezzo-soprano\nMa
 xence Billiémaz ténor\nPierre-Fabien Roubaty DIRECTION\n\n
ATTACH;FMTTYPE=image/jpeg:https://leoniecachelin.com/wp-content/uploads/20
 24/08/Capture-decran-2024-08-29-a-19.29.46.png
CATEGORIES:Chœur et ensemble,Mezzo solo
LOCATION:Temple de Lutry (VD)\, Place du Temple\, Lutry\, Suisse
X-APPLE-STRUCTURED-LOCATION;VALUE=URI;X-ADDRESS=Place du Temple\, Lutry\, S
 uisse;X-APPLE-RADIUS=100;X-TITLE=Temple de Lutry (VD):geo:0,0
END:VEVENT
BEGIN:VTIMEZONE
TZID:Europe/Zurich
X-LIC-LOCATION:Europe/Zurich
BEGIN:STANDARD
DTSTART:20251026T020000
TZOFFSETFROM:+0200
TZOFFSETTO:+0100
TZNAME:CET
END:STANDARD
END:VTIMEZONE
END:VCALENDAR