BEGIN:VCALENDAR
VERSION:2.0
PRODID:-//wp-events-plugin.com//7.2.3.1//EN
TZID:Europe/Zurich
X-WR-TIMEZONE:Europe/Zurich
BEGIN:VEVENT
UID:193@leoniecachelin.com
DTSTART;TZID=Europe/Zurich:20251010T200000
DTEND;TZID=Europe/Zurich:20251010T200000
DTSTAMP:20250807T130206Z
URL:https://leoniecachelin.com/agenda/petite-messe-solennelle-de-rossini-e
 vl/
SUMMARY:Petite messe solennelle de Rossini - EVL
DESCRIPTION:\n\n\n“Bon Dieu… la voilà terminée\, cette pauvre petite 
 messe. Est-ce bien de la musique sacrée que je viens “Bon Dieu… la vo
 ilà terminée\, cette pauvre petite messe. Est-ce bien de la musique sacr
 ée que je viens de faire\, ou bien de la sacrée musique ? J’étais né
  pour l’opera buffa\, tu le sais bien ! Peu de science\, un peu de coeur
 \, tout est là. Sois donc béni et accorde-moi le Paradis. ». C’est pe
 ut-être pour se faire pardonner d’avoir négligé le Créateur dans une
  bonne partie de son oeuvre\, que Rossini écrit cette dédicace célèbre
 . Constituant le véritable testament musical de ce compositeur\, cette oe
 uvre rassemble tout son art\, sa ferveur et son audace.\n\nDerrière la si
 mplicité de ses formes\, la modestie de son effectif\, la clarté de sa
  facture\, elle recèle une hardiesse et une subtilité très nouvelle che
 z lui. Rossini\, lui-même\, la désigne comme « le dernier péché morte
 l de sa vieillesse ». Daniel Reuss sera entouré d’un plateau parfait p
 our servir l’oeuvre de Rossini\, ce bon vivant légendaire.\n\n\n\nPROGR
 AMME\nG. Rossini - Petite Messe Solennelle\n\n\n\n\n\n\nBerit Norbakken SO
 PRANO\nOlivia Vermeulen MEZZO-SOPRANO\nThomas Walker TENOR\nTobias Berndt 
 BARYTON\nSimon Savoy PIANO\nArthur Saunier HARMONIUM\nDaniel Reuss DIRECTI
 ON\n\n\n
ATTACH;FMTTYPE=image/jpeg:https://leoniecachelin.com/wp-content/uploads/20
 22/11/FD466ACA-6658-4F8C-9F7A-3201AB29123D.jpeg
CATEGORIES:Chœur et ensemble
LOCATION:Temple de Saint-Gervais\, Rue des Terreaux-du-Temple 12\, Genève\
 , Suisse
X-APPLE-STRUCTURED-LOCATION;VALUE=URI;X-ADDRESS=Rue des Terreaux-du-Temple 
 12\, Genève\, Suisse;X-APPLE-RADIUS=100;X-TITLE=Temple de Saint-Gervais:g
 eo:0,0
END:VEVENT
BEGIN:VTIMEZONE
TZID:Europe/Zurich
X-LIC-LOCATION:Europe/Zurich
BEGIN:DAYLIGHT
DTSTART:20250330T030000
TZOFFSETFROM:+0100
TZOFFSETTO:+0200
TZNAME:CEST
END:DAYLIGHT
END:VTIMEZONE
END:VCALENDAR