BEGIN:VCALENDAR
VERSION:2.0
PRODID:-//wp-events-plugin.com//7.2.3.1//EN
TZID:Europe/Zurich
X-WR-TIMEZONE:Europe/Zurich
BEGIN:VEVENT
UID:191@leoniecachelin.com
DTSTART;TZID=Europe/Zurich:20251005T170000
DTEND;TZID=Europe/Zurich:20251005T180000
DTSTAMP:20250807T125729Z
URL:https://leoniecachelin.com/agenda/requiem-de-durufle-mezzo-solo-3/
SUMMARY:Requiem de Duruflé - Mezzo solo
DESCRIPTION:Chœur Villanelle d’Evian\nThibaut Duret\, orgue\nAlexis Yasm
 adjan violoncelle\nLéonie Cachelin\, mezzo-soprano\nJoshua Morris\, baryt
 on-basse\nMargot Boitard\, direction\nBillets d’entrée à 20\, 15* ou 1
 0** fr.\nAbonnements à 65\, 50*\, 35** fr.\nENTRÉE GRATUITE JUSQU’À 1
 5 ANS\n* AVS/AI\, chômeurs\n** 16-18 ans\, étudiants\, apprentis
ATTACH;FMTTYPE=image/jpeg:https://leoniecachelin.com/wp-content/uploads/20
 24/01/DSC00532-scaled.jpg
CATEGORIES:Mezzo solo
LOCATION:Eglise Saint-François-de-salle\, Chêne-Bourg\, Chêne-Bourg\, Su
 isse
X-APPLE-STRUCTURED-LOCATION;VALUE=URI;X-ADDRESS=Chêne-Bourg\, Chêne-Bourg
 \, Suisse;X-APPLE-RADIUS=100;X-TITLE=Eglise Saint-François-de-salle:geo:0
 ,0
END:VEVENT
BEGIN:VTIMEZONE
TZID:Europe/Zurich
X-LIC-LOCATION:Europe/Zurich
BEGIN:DAYLIGHT
DTSTART:20250330T030000
TZOFFSETFROM:+0100
TZOFFSETTO:+0200
TZNAME:CEST
END:DAYLIGHT
END:VTIMEZONE
END:VCALENDAR