BEGIN:VCALENDAR
VERSION:2.0
PRODID:-//wp-events-plugin.com//7.2.3.1//EN
TZID:Europe/Zurich
X-WR-TIMEZONE:Europe/Zurich
BEGIN:VEVENT
UID:192@leoniecachelin.com
DTSTART;TZID=Europe/Zurich:20251109T180000
DTEND;TZID=Europe/Zurich:20251109T190000
DTSTAMP:20251105T113632Z
URL:https://leoniecachelin.com/agenda/requiem-de-durufle-mezzo-solo-4/
SUMMARY:Requiem de Duruflé - Mezzo solo
DESCRIPTION:Chœur Villanelle d’Evian\nThibaut Duret\, orgue\nAlexis Yasm
 adjan violoncelle\nLéonie Cachelin\, mezzo-soprano\nJoshua Morris\, baryt
 on-basse\nMargot Boitard\, direction\nBillets d’entrée à 20\, 15* ou 1
 0** fr.\nAbonnements à 65\, 50*\, 35** fr.\nENTRÉE GRATUITE JUSQU’À 1
 5 ANS\n* AVS/AI\, chômeurs\n** 16-18 ans\, étudiants\, apprentis
ATTACH;FMTTYPE=image/jpeg:https://leoniecachelin.com/wp-content/uploads/20
 24/01/DSC00532-scaled.jpg
CATEGORIES:Mezzo solo
LOCATION:Eglise d'Evian\, Evian\, Evian\, France
X-APPLE-STRUCTURED-LOCATION;VALUE=URI;X-ADDRESS=Evian\, Evian\, France;X-AP
 PLE-RADIUS=100;X-TITLE=Eglise d'Evian:geo:0,0
END:VEVENT
BEGIN:VTIMEZONE
TZID:Europe/Zurich
X-LIC-LOCATION:Europe/Zurich
BEGIN:STANDARD
DTSTART:20251026T020000
TZOFFSETFROM:+0200
TZOFFSETTO:+0100
TZNAME:CET
END:STANDARD
END:VTIMEZONE
END:VCALENDAR