BEGIN:VCALENDAR
VERSION:2.0
PRODID:-//wp-events-plugin.com//7.2.3.1//EN
TZID:Europe/Zurich
X-WR-TIMEZONE:Europe/Zurich
BEGIN:VEVENT
UID:167@leoniecachelin.com
DTSTART;TZID=Europe/Zurich:20250117T200000
DTEND;TZID=Europe/Zurich:20250117T213000
DTSTAMP:20241216T132456Z
URL:https://leoniecachelin.com/agenda/requiem-de-durufle-mezzo-solo/
SUMMARY:Requiem de Duruflé - mezzo solo
DESCRIPTION:Ensemble Mnémosyne\n\nDirection : Alexandre Aegerter\n\nRequie
 m op. 9 (version pour choeur et petit orchestre\, 1961) - M. Duruflé\n\nL
 ord\, let me know mine end - C. Parry\n\nMezzo solo : Léonie Cachelin
ATTACH;FMTTYPE=image/jpeg:https://leoniecachelin.com/wp-content/uploads/20
 24/01/DSC00443-scaled.jpg
CATEGORIES:Mezzo solo
LOCATION:La Collégiale (NE)\, Neuchâtel \, NE\, Suisse
X-APPLE-STRUCTURED-LOCATION;VALUE=URI;X-ADDRESS=Neuchâtel \, NE\, Suisse;X
 -APPLE-RADIUS=100;X-TITLE=La Collégiale (NE):geo:0,0
END:VEVENT
BEGIN:VTIMEZONE
TZID:Europe/Zurich
X-LIC-LOCATION:Europe/Zurich
BEGIN:STANDARD
DTSTART:20241027T020000
TZOFFSETFROM:+0200
TZOFFSETTO:+0100
TZNAME:CET
END:STANDARD
END:VTIMEZONE
END:VCALENDAR