BEGIN:VCALENDAR
VERSION:2.0
PRODID:-//wp-events-plugin.com//7.2.3.1//EN
TZID:Europe/Zurich
X-WR-TIMEZONE:Europe/Zurich
BEGIN:VEVENT
UID:186@leoniecachelin.com
DTSTART;TZID=Europe/Zurich:20250614T193000
DTEND;TZID=Europe/Zurich:20250614T213000
DTSTAMP:20250503T193754Z
URL:https://leoniecachelin.com/agenda/requiem-de-faure-evl-et-ocg/
SUMMARY:Requiem de Fauré - EVL et OCG
DESCRIPTION:\n\nEnsemble Vocal de Lausanne et Orchestre de Chambre de Genè
 ve\n\nRaphaël Merlin\, direction\n\n\nJean-Frédéric Neuburger\, piano\n
 \n\nAmel Brahim-Djelloul\, soprano\n\n\nFelix Gygli\, baryton\n\n\n\n\n\n&
 nbsp\;\nProgramme\n\n 	Ludwig van Beethoven\, Concerto pour piano n°4 en
  sol majeur\, op.58Gabriel\n 	Gabriel Fauré\, Requiem\, op.48\n\n\n
ATTACH;FMTTYPE=image/jpeg:https://leoniecachelin.com/wp-content/uploads/20
 22/11/FD466ACA-6658-4F8C-9F7A-3201AB29123D.jpeg
CATEGORIES:Chœur et ensemble
LOCATION:Alhambra\, Rue de la Rotisserie 10\, 1204 Genève\, Suisse
X-APPLE-STRUCTURED-LOCATION;VALUE=URI;X-ADDRESS=Rue de la Rotisserie 10\, 1
 204 Genève\, Suisse;X-APPLE-RADIUS=100;X-TITLE=Alhambra:geo:0,0
END:VEVENT
BEGIN:VTIMEZONE
TZID:Europe/Zurich
X-LIC-LOCATION:Europe/Zurich
BEGIN:DAYLIGHT
DTSTART:20250330T030000
TZOFFSETFROM:+0100
TZOFFSETTO:+0200
TZNAME:CEST
END:DAYLIGHT
END:VTIMEZONE
END:VCALENDAR