BEGIN:VCALENDAR
VERSION:2.0
PRODID:-//wp-events-plugin.com//7.2.3.1//EN
TZID:Europe/Zurich
X-WR-TIMEZONE:Europe/Zurich
BEGIN:VEVENT
UID:197@leoniecachelin.com
DTSTART;TZID=Europe/Zurich:20251217T193000
DTEND;TZID=Europe/Zurich:20251217T193000
DTSTAMP:20250928T114522Z
URL:https://leoniecachelin.com/agenda/requiem-de-mozart-evl-osr/
SUMMARY:Requiem de Mozart - EVL & OSR
DESCRIPTION:\nRequiem de Mozart\n\n\n\n\n\n\nChelsea Marilyn Zurflüh SOPRA
 NO\nEva-Maud Hubeaux MEZZO-SOPRANO\nJeremy Ovenden TENOR\nAlexandros Stavr
 akakis BARYTON\n\nEnsemble Vocal de Lausanne\nOrchestre de la Suisse Roman
 de\nJonathan Nott DIRECTION\nPROGRAMME\nG. Grabstein für Stephan\, pour g
 uitare et groupes instrumentaux dispersés dans l'espace\nM. Bruch - Conce
 rto pour violon et orchestre N° 1 en sol mineur \nEntracte\nW.A. Mozart 
 - Requiem\n&nbsp\;\n\n\n\n\n\n\n\n\n&nbsp\;\n\n\n
ATTACH;FMTTYPE=image/jpeg:https://leoniecachelin.com/wp-content/uploads/20
 22/11/FD466ACA-6658-4F8C-9F7A-3201AB29123D.jpeg
CATEGORIES:Chœur et ensemble
LOCATION:Victoria Hall\, Rue du Général-Dufour\, Genève\, Suisse
X-APPLE-STRUCTURED-LOCATION;VALUE=URI;X-ADDRESS=Rue du Général-Dufour\, G
 enève\, Suisse;X-APPLE-RADIUS=100;X-TITLE=Victoria Hall:geo:0,0
END:VEVENT
BEGIN:VTIMEZONE
TZID:Europe/Zurich
X-LIC-LOCATION:Europe/Zurich
BEGIN:STANDARD
DTSTART:20251026T020000
TZOFFSETFROM:+0200
TZOFFSETTO:+0100
TZNAME:CET
END:STANDARD
END:VTIMEZONE
END:VCALENDAR