BEGIN:VCALENDAR
VERSION:2.0
PRODID:-//wp-events-plugin.com//7.2.3.1//EN
TZID:Europe/Zurich
X-WR-TIMEZONE:Europe/Zurich
BEGIN:VEVENT
UID:157@leoniecachelin.com
DTSTART;TZID=Europe/Zurich:20241121T200000
DTEND;TZID=Europe/Zurich:20241121T200000
DTSTAMP:20240829T175642Z
URL:https://leoniecachelin.com/agenda/requiem-f-martin-evl-dir-t-fischer/
SUMMARY:Requiem\, F. Martin - EVL\, Dir. : T. Fischer
DESCRIPTION:\n\n\nL’Odyssée Frank Martin\, voilà une aventure enthousia
 smante à laquelle l’Ensemble Vocal de Lausanne est très heureux de par
 ticiper !\n\nLe 21 novembre 2024\, à l’occasion de l’anniversaire de 
 la disparition de Frank Martin\, l’EVL aura l’honneur d’interpréter
  son Requiem\, une œuvre qui se distingue par sa puissance émotionnelle 
 et sa beauté mélodique\, reflétant la quête personnelle du compositeur
  pour la paix et la rédemption.\n\n&nbsp\;\nPROGRAMME\nF. Martin - Requie
 m\n\n\nENSEMBLE VOCAL DE LAUSANNE\n\nOrchestre Frank Martin\n\nThierry Fis
 cher directio
ATTACH;FMTTYPE=image/jpeg:https://leoniecachelin.com/wp-content/uploads/20
 22/11/FD466ACA-6658-4F8C-9F7A-3201AB29123D.jpeg
CATEGORIES:Chœur et ensemble
LOCATION:Cathédrale Saint-Pierre\, Genève \, Genève\, Suisse
X-APPLE-STRUCTURED-LOCATION;VALUE=URI;X-ADDRESS=Genève \, Genève\, Suisse
 ;X-APPLE-RADIUS=100;X-TITLE=Cathédrale Saint-Pierre:geo:0,0
END:VEVENT
BEGIN:VTIMEZONE
TZID:Europe/Zurich
X-LIC-LOCATION:Europe/Zurich
BEGIN:STANDARD
DTSTART:20241027T020000
TZOFFSETFROM:+0200
TZOFFSETTO:+0100
TZNAME:CET
END:STANDARD
END:VTIMEZONE
END:VCALENDAR